{"text_format":"1","workbook":"xlsx","n_sheets":8,"sheets":["記入例","原本例","入力フォーム","原本(7段用)","原本(13段用) ","原本(追加用) ","依頼書印刷用","製品データ"],"not_rendered":{"charts":0,"images":4,"macros":1,"external_links":0,"defined_names":7,"comments":0,"pivot_tables":0},"unopened":[],"bounds":{"document_bytes":16777216,"sheet_cells":100000,"rows_first":2000,"rows_last":500,"rows_between":2000,"halvings":0,"cell_chars":16384,"cell_head_chars":4096},"cells_cut":0,"cells_raw":0,"read":"whole","date_system":"1900"}

{"sheet":"記入例","index":0,"n_rows":82,"n_cols":38,"rows_kept":82,"cut":false,"hidden":false,"merged":[[61,28,61,29],[61,30,61,31],[62,28,62,29],[62,30,62,31],[63,28,63,29],[63,30,63,31],[64,28,64,29],[64,30,64,31],[65,28,65,29],[65,30,65,31],[15,28,15,29],[15,30,15,31],[16,28,16,29],[16,30,16,31],[17,28,17,29],[17,30,17,31],[18,28,18,29],[60,28,60,29],[60,30,60,31],[59,28,59,29],[59,30,59,31],[20,28,20,29],[20,30,20,31],[21,28,21,29],[21,30,21,31],[22,28,22,29],[22,30,22,31],[23,28,23,29],[23,30,23,31],[24,28,24,29],[24,30,24,31],[18,30,18,31],[19,28,19,29],[19,30,19,31],[80,28,80,31],[77,2,77,4],[77,6,77,7],[77,9,77,20],[77,21,77,27],[77,28,77,31],[78,2,78,4],[78,6,78,7],[78,9,78,20],[78,21,78,27],[78,28,78,31],[75,2,75,4],[75,6,75,7],[75,9,75,20],[75,21,75,27],[75,28,75,31],[81,2,81,4],[81,6,81,7],[81,9,81,20],[81,21,81,27],[81,28,81,31],[79,2,79,4],[79,6,79,7],[79,9,79,20],[79,21,79,27],[76,2,76,4],[76,6,76,7],[76,9,76,20],[76,21,76,27],[76,28,76,31],[79,28,79,31],[80,2,80,4],[80,6,80,7],[80,9,80,20],[80,21,80,27],[72,9,72,20],[72,21,72,27],[73,2,73,4],[73,6,73,7],[73,9,73,20],[73,21,73,27],[73,28,73,31],[74,2,74,4],[74,6,74,7],[74,9,74,20],[74,21,74,27],[74,28,74,31],[72,28,72,29],[72,30,72,31],[70,9,70,20],[70,21,70,27],[71,9,71,20],[71,21,71,27],[69,28,69,29],[69,30,69,31],[70,28,70,29],[70,30,70,31],[71,28,71,29],[71,30,71,31],[68,21,68,27],[66,28,66,29],[66,30,66,31],[67,28,67,29],[67,30,67,31],[68,28,68,29],[68,30,68,31],[69,9,69,20],[69,21,69,27],[55,0,55,31],[57,0,58,8],[57,9,58,31],[59,0,59,8],[59,9,59,20],[59,21,59,27],[60,0,72,8],[60,9,60,20],[60,21,60,27],[61,9,61,20],[61,21,61,27],[62,9,62,20],[62,21,62,27],[63,9,63,20],[63,21,63,27],[64,9,64,20],[64,21,64,27],[65,9,65,20],[65,21,65,27],[66,9,66,20],[66,21,66,27],[67,9,67,20],[67,21,67,27],[68,9,68,20],[42,0,42,31],[45,0,45,31],[33,0,39,8],[34,9,34,12],[34,13,34,24],[34,26,34,29],[47,0,47,11],[47,19,52,31],[36,9,36,12],[36,23,36,26],[37,13,37,31],[39,9,39,12],[39,13,39,17],[39,19,39,23],[39,25,39,29],[40,0,40,8],[40,9,40,10],[40,17,40,24],[49,2,49,5],[50,2,52,5],[49,6,49,9],[50,6,52,9],[29,0,32,8],[29,9,29,11],[29,12,29,14],[29,15,29,20],[29,21,29,24],[29,25,29,31],[30,9,30,11],[30,12,30,14],[30,15,30,31],[31,9,31,11],[31,12,31,14],[31,15,31,31],[32,9,32,11],[32,12,32,14],[32,15,32,31],[26,9,26,20],[26,21,26,27],[25,28,25,29],[25,30,25,31],[26,28,26,29],[26,30,26,31],[27,9,27,20],[27,21,27,27],[28,9,28,20],[28,21,28,27],[27,28,27,29],[27,30,27,31],[28,28,28,29],[28,30,28,31],[15,0,15,8],[15,9,15,20],[15,21,15,27],[16,0,28,8],[16,9,16,20],[16,21,16,27],[17,9,17,20],[17,21,17,27],[18,9,18,20],[18,21,18,27],[19,9,19,20],[19,21,19,27],[20,9,20,20],[20,21,20,27],[21,9,21,20],[21,21,21,27],[22,9,22,20],[22,21,22,27],[23,9,23,20],[23,21,23,27],[24,9,24,20],[24,21,24,27],[25,9,25,20],[25,21,25,27],[0,0,0,31],[2,0,2,11],[5,33,5,36],[6,33,6,36],[7,33,7,36],[4,33,4,36],[4,2,4,5],[5,2,7,5],[4,6,4,9],[5,6,7,9],[2,23,2,31],[3,19,3,31],[4,19,4,31],[5,19,5,31],[6,19,6,31],[7,19,7,31],[9,0,9,8],[9,10,9,12],[9,13,9,15],[9,16,9,18],[9,19,9,31],[10,0,11,8],[10,9,11,10],[10,11,11,31],[12,0,14,8],[12,9,12,13],[12,15,12,31],[13,9,13,13],[13,15,13,31],[14,9,14,13],[14,15,14,31]]}
["出荷証明書発行依頼書入力フォーム（記入例）"]
[]
["日新工業㈱九州営業所　行",null,null,null,null,null,null,null,null,null,null,null,null,null,null,null,null,null,null,"　※申請者名",null,null,null,null,null,null,null,null,null,null,null,null,null,"※社印・担当者印は電子印を推奨"]
[null,null,null,null,null,null,null,null,null,null,null,null,null,null,null,null,null,null,null,"依頼者："]
[null,null,"所　長",null,null,null,"担当者",null,null,null,null,null,null,null,null,null,null,null,null,"住　所：",null,null,null,null,null,null,null,null,null,null,null,null,null,null,null,null,null,"プルダウン選択"]
[null,null,null,null,null,null,null,null,null,null,null,null,null,null,null,null,null,null,null,"担当者：",null,null,null,null,null,null,null,null,null,null,null,null,null,null,null,null,null,"発行日付・出荷日入力"]
[null,null,null,null,null,null,null,null,null,null,null,null,null,null,null,null,null,null,null,"連絡先：",null,null,null,null,null,null,null,null,null,null,null,null,null,null,null,null,null,"必要事項入力"]
[null,null,null,null,null,null,null,null,null,null,null,null,null,null,null,null,null,null,null,null,null,null,null,null,null,null,null,null,null,null,null,null,null,null,null,null,null,"品名・規格・数量"]
[]
["出荷証明書発行日付",null,null,null,null,null,null,null,null,"※","日付記載",null,null,"あり",null,null,"日付：",null,null,"令和　　年　　月　　日"]
["工  　 事　   名",null,null,null,null,null,null,null,null,"※  ",null,"２９－日新工業団地棟屋根増築その他修繕工事"]
[]
["現  場   明  細",null,null,null,null,null,null,null,null,"※現 場 住 所",null,null,null,null,"：","福岡県福岡市博多区住吉４－３－２　博多エイトビル"]
[null,null,null,null,null,null,null,null,null,"※元　　　 　請",null,null,null,null,"：","日新工業株式会社 九州営業所"]
[null,null,null,null,null,null,null,null,null,"※防水施工店",null,null,null,null,"：","日新工業株式会社 九州営業所"]
["※出 荷 年 月 日",null,null,null,null,null,null,null,null,"※品　　　　　　名",null,null,null,null,null,null,null,null,null,null,null,"※規　　格",null,null,null,null,null,null,"数量",null,"単位"]
["令和２年１０月２７日",null,null,null,null,null,null,null,null,null,null,null,null,null,null,null,null,null,null,null,null,{"$f":"IF(J17=\"\",\"\",VLOOKUP(J17,製品データ!$A$2:$B$591,2,FALSE))","v":""},null,null,null,null,null,null,null,null,{"$f":"IF(J17=\"\",\"\",VLOOKUP(J17,製品データ!$A$2:$C$591,3,FALSE))","v":""},null,"※1枚目は13品目まで記入可能"]
[null,null,null,null,null,null,null,null,null,null,null,null,null,null,null,null,null,null,null,null,null,{"$f":"IF(J18=\"\",\"\",VLOOKUP(J18,製品データ!$A$2:$B$591,2,FALSE))","v":""},null,null,null,null,null,null,null,null,{"$f":"IF(J18=\"\",\"\",VLOOKUP(J18,製品データ!$A$2:$C$591,3,FALSE))","v":""},null,"　 14品目以上になる場合は【追加専用】に記入"]
[null,null,null,null,null,null,null,null,null,null,null,null,null,null,null,null,null,null,null,null,null,{"$f":"IF(J19=\"\",\"\",VLOOKUP(J19,製品データ!$A$2:$B$591,2,FALSE))","v":""},null,null,null,null,null,null,null,null,{"$f":"IF(J19=\"\",\"\",VLOOKUP(J19,製品データ!$A$2:$C$591,3,FALSE))","v":""}]
[null,null,null,null,null,null,null,null,null,null,null,null,null,null,null,null,null,null,null,null,null,{"$f":"IF(J20=\"\",\"\",VLOOKUP(J20,製品データ!$A$2:$B$591,2,FALSE))","v":""},null,null,null,null,null,null,null,null,{"$f":"IF(J20=\"\",\"\",VLOOKUP(J20,製品データ!$A$2:$C$591,3,FALSE))","v":""}]
[null,null,null,null,null,null,null,null,null,null,null,null,null,null,null,null,null,null,null,null,null,{"$f":"IF(J21=\"\",\"\",VLOOKUP(J21,製品データ!$A$2:$B$591,2,FALSE))","v":""},null,null,null,null,null,null,null,null,{"$f":"IF(J21=\"\",\"\",VLOOKUP(J21,製品データ!$A$2:$C$591,3,FALSE))","v":""}]
[null,null,null,null,null,null,null,null,null,null,null,null,null,null,null,null,null,null,null,null,null,{"$f":"IF(J22=\"\",\"\",VLOOKUP(J22,製品データ!$A$2:$B$591,2,FALSE))","v":""},null,null,null,null,null,null,null,null,{"$f":"IF(J22=\"\",\"\",VLOOKUP(J22,製品データ!$A$2:$C$591,3,FALSE))","v":""}]
[null,null,null,null,null,null,null,null,null,null,null,null,null,null,null,null,null,null,null,null,null,{"$f":"IF(J23=\"\",\"\",VLOOKUP(J23,製品データ!$A$2:$B$591,2,FALSE))","v":""},null,null,null,null,null,null,null,null,{"$f":"IF(J23=\"\",\"\",VLOOKUP(J23,製品データ!$A$2:$C$591,3,FALSE))","v":""}]
[null,null,null,null,null,null,null,null,null,null,null,null,null,null,null,null,null,null,null,null,null,{"$f":"IF(J24=\"\",\"\",VLOOKUP(J24,製品データ!$A$2:$B$591,2,FALSE))","v":""},null,null,null,null,null,null,null,null,{"$f":"IF(J24=\"\",\"\",VLOOKUP(J24,製品データ!$A$2:$C$591,3,FALSE))","v":""}]
[null,null,null,null,null,null,null,null,null,null,null,null,null,null,null,null,null,null,null,null,null,{"$f":"IF(J25=\"\",\"\",VLOOKUP(J25,製品データ!$A$2:$B$591,2,FALSE))","v":""},null,null,null,null,null,null,null,null,{"$f":"IF(J25=\"\",\"\",VLOOKUP(J25,製品データ!$A$2:$C$591,3,FALSE))","v":""}]
[null,null,null,null,null,null,null,null,null,null,null,null,null,null,null,null,null,null,null,null,null,{"$f":"IF(J26=\"\",\"\",VLOOKUP(J26,製品データ!$A$2:$B$591,2,FALSE))","v":""},null,null,null,null,null,null,null,null,{"$f":"IF(J26=\"\",\"\",VLOOKUP(J26,製品データ!$A$2:$C$591,3,FALSE))","v":""}]
[null,null,null,null,null,null,null,null,null,null,null,null,null,null,null,null,null,null,null,null,null,{"$f":"IF(J27=\"\",\"\",VLOOKUP(J27,製品データ!$A$2:$B$591,2,FALSE))","v":""},null,null,null,null,null,null,null,null,{"$f":"IF(J27=\"\",\"\",VLOOKUP(J27,製品データ!$A$2:$C$591,3,FALSE))","v":""}]
[null,null,null,null,null,null,null,null,null,null,null,null,null,null,null,null,null,null,null,null,null,{"$f":"IF(J28=\"\",\"\",VLOOKUP(J28,製品データ!$A$2:$B$591,2,FALSE))","v":""},null,null,null,null,null,null,null,null,{"$f":"IF(J28=\"\",\"\",VLOOKUP(J28,製品データ!$A$2:$C$591,3,FALSE))","v":""}]
[null,null,null,null,null,null,null,null,null,null,null,null,null,null,null,null,null,null,null,null,null,{"$f":"IF(J29=\"\",\"\",VLOOKUP(J29,製品データ!$A$2:$B$591,2,FALSE))","v":""},null,null,null,null,null,null,null,null,{"$f":"IF(J29=\"\",\"\",VLOOKUP(J29,製品データ!$A$2:$C$591,3,FALSE))","v":""}]
["宛　　      　　名",null,null,null,null,null,null,null,null,"※",null,null,"宛名有無：",null,null,"宛名あり",null,null,null,null,null,"宛名敬称：",null,null,null,"　様 "]
[null,null,null,null,null,null,null,null,null,"※",null,null,"宛名③：",null,null,"独立行政法人都市再生機構業務受託者",null,null,null,null,null,null,null,null,null,null,null,null,null,null,null,null,null,"←宛名を改行する場合は必要に応じてご入力下さい(上段）"]
[null,null,null,null,null,null,null,null,null,"※",null,null,"宛名②：",null,null,"株式会社 日新コミュニティ 福岡住まいセンター",null,null,null,null,null,null,null,null,null,null,null,null,null,null,null,null,null,"←宛名を改行する場合は必要に応じてご入力下さい(中段）"]
[null,null,null,null,null,null,null,null,null,"※",null,null,"宛名①：",null,null,"センター長 日新 太郎",null,null,null,null,null,null,null,null,null,null,null,null,null,null,null,null,null,"（下段）"]
["証明書発送先"]
[null,null,null,null,null,null,null,null,null,"会社名；",null,null,null,null,null,null,null,null,null,null,null,null,null,null,null,null,null,null,null,null,"様宛"]
[]
[null,null,null,null,null,null,null,null,null,"住　 所；",null,null,null,"〒",null,null,null,"－",null,null,null,null,null,null,null,null,null,"都・道・府・県"]
[]
[]
[null,null,null,null,null,null,null,null,null,"Ｔ Ｅ Ｌ；",null,null,null,"０９２",null,null,null,null,"－",null,null,null,null,null,"－"]
["必要発行部数",null,null,null,null,null,null,null,null,"※　",null,null,null,null,null,null,null,3,null,null,null,null,null,null,null,null,"部"]
[]
["今般、上記明細の通り貴社より出荷されましたので､出荷証明書の発行をお願い致します。"]
[]
[]
["出荷証明書発行依頼書入力フォーム（追加用）"]
[]
["日新工業㈱九州営業所　行",null,null,null,null,null,null,null,null,null,null,null,null,null,null,null,null,null,null,"　※申請者名・社印及び責任者印"]
[]
[null,null,"所　長",null,null,null,"担当者"]
[]
[]
[]
[]
[]
["     ※　項目が多い場合、下記に記入してください。　　（追加専用）"]
[]
["工  　 事　   名",null,null,null,null,null,null,null,null,"※ ２９－日新工業団地棟屋根防水その他修繕工事"]
[]
["※出 荷 年 月 日",null,null,null,null,null,null,null,null,"※品　　　　　　名",null,null,null,null,null,null,null,null,null,null,null,"※規　　格",null,null,null,null,null,null,"数量",null,"単位"]
["令和２年１１月２８日",null,null,null,null,null,null,null,null,null,null,null,null,null,null,null,null,null,null,null,null,{"$f":"IF(J61=\"\",\"\",VLOOKUP(J61,製品データ!$A$2:$B$591,2,FALSE))","v":""},null,null,null,null,null,null,null,null,{"$f":"IF(J61=\"\",\"\",VLOOKUP(J61,製品データ!$A$2:$C$591,3,FALSE))","v":""}]
[null,null,null,null,null,null,null,null,null,null,null,null,null,null,null,null,null,null,null,null,null,{"$f":"IF(J62=\"\",\"\",VLOOKUP(J62,製品データ!$A$2:$B$591,2,FALSE))","v":""},null,null,null,null,null,null,null,null,{"$f":"IF(J62=\"\",\"\",VLOOKUP(J62,製品データ!$A$2:$C$591,3,FALSE))","v":""}]
[null,null,null,null,null,null,null,null,null,null,null,null,null,null,null,null,null,null,null,null,null,{"$f":"IF(J63=\"\",\"\",VLOOKUP(J63,製品データ!$A$2:$B$591,2,FALSE))","v":""},null,null,null,null,null,null,null,null,{"$f":"IF(J63=\"\",\"\",VLOOKUP(J63,製品データ!$A$2:$C$591,3,FALSE))","v":""}]
[null,null,null,null,null,null,null,null,null,null,null,null,null,null,null,null,null,null,null,null,null,{"$f":"IF(J64=\"\",\"\",VLOOKUP(J64,製品データ!$A$2:$B$591,2,FALSE))","v":""},null,null,null,null,null,null,null,null,{"$f":"IF(J64=\"\",\"\",VLOOKUP(J64,製品データ!$A$2:$C$591,3,FALSE))","v":""}]
[null,null,null,null,null,null,null,null,null,null,null,null,null,null,null,null,null,null,null,null,null,{"$f":"IF(J65=\"\",\"\",VLOOKUP(J65,製品データ!$A$2:$B$591,2,FALSE))","v":""},null,null,null,null,null,null,null,null,{"$f":"IF(J65=\"\",\"\",VLOOKUP(J65,製品データ!$A$2:$C$591,3,FALSE))","v":""}]
[null,null,null,null,null,null,null,null,null,null,null,null,null,null,null,null,null,null,null,null,null,{"$f":"IF(J66=\"\",\"\",VLOOKUP(J66,製品データ!$A$2:$B$591,2,FALSE))","v":""},null,null,null,null,null,null,null,null,{"$f":"IF(J66=\"\",\"\",VLOOKUP(J66,製品データ!$A$2:$C$591,3,FALSE))","v":""}]
[null,null,null,null,null,null,null,null,null,null,null,null,null,null,null,null,null,null,null,null,null,{"$f":"IF(J67=\"\",\"\",VLOOKUP(J67,製品データ!$A$2:$B$591,2,FALSE))","v":""},null,null,null,null,null,null,null,null,{"$f":"IF(J67=\"\",\"\",VLOOKUP(J67,製品データ!$A$2:$C$591,3,FALSE))","v":""}]
[null,null,null,null,null,null,null,null,null,null,null,null,null,null,null,null,null,null,null,null,null,{"$f":"IF(J68=\"\",\"\",VLOOKUP(J68,製品データ!$A$2:$B$591,2,FALSE))","v":""},null,null,null,null,null,null,null,null,{"$f":"IF(J68=\"\",\"\",VLOOKUP(J68,製品データ!$A$2:$C$591,3,FALSE))","v":""}]
[null,null,null,null,null,null,null,null,null,null,null,null,null,null,null,null,null,null,null,null,null,{"$f":"IF(J69=\"\",\"\",VLOOKUP(J69,製品データ!$A$2:$B$591,2,FALSE))","v":""},null,null,null,null,null,null,null,null,{"$f":"IF(J69=\"\",\"\",VLOOKUP(J69,製品データ!$A$2:$C$591,3,FALSE))","v":""}]
[null,null,null,null,null,null,null,null,null,null,null,null,null,null,null,null,null,null,null,null,null,{"$f":"IF(J70=\"\",\"\",VLOOKUP(J70,製品データ!$A$2:$B$591,2,FALSE))","v":""},null,null,null,null,null,null,null,null,{"$f":"IF(J70=\"\",\"\",VLOOKUP(J70,製品データ!$A$2:$C$591,3,FALSE))","v":""}]
[null,null,null,null,null,null,null,null,null,null,null,null,null,null,null,null,null,null,null,null,null,{"$f":"IF(J71=\"\",\"\",VLOOKUP(J71,製品データ!$A$2:$B$591,2,FALSE))","v":""},null,null,null,null,null,null,null,null,{"$f":"IF(J71=\"\",\"\",VLOOKUP(J71,製品データ!$A$2:$C$591,3,FALSE))","v":""}]
[null,null,null,null,null,null,null,null,null,null,null,null,null,null,null,null,null,null,null,null,null,{"$f":"IF(J72=\"\",\"\",VLOOKUP(J72,製品データ!$A$2:$B$591,2,FALSE))","v":""},null,null,null,null,null,null,null,null,{"$f":"IF(J72=\"\",\"\",VLOOKUP(J72,製品データ!$A$2:$C$591,3,FALSE))","v":""}]
[null,null,null,null,null,null,null,null,null,null,null,null,null,null,null,null,null,null,null,null,null,{"$f":"IF(J73=\"\",\"\",VLOOKUP(J73,製品データ!$A$2:$B$591,2,FALSE))","v":""},null,null,null,null,null,null,null,null,{"$f":"IF(J73=\"\",\"\",VLOOKUP(J73,製品データ!$A$2:$C$591,3,FALSE))","v":""}]
[null,null,null,null,null,"月",null,null,"日",null,null,null,null,null,null,null,null,null,null,null,null,null,null,null,null,null,null,null,null,null,null,null,"※27品目以上になる場合はご相談下さい"]
[null,null,null,null,null,"月",null,null,"日"]
[null,null,null,null,null,"月",null,null,"日"]
[null,null,null,null,null,"月",null,null,"日"]
[null,null,null,null,null,"月",null,null,"日"]
[null,null,null,null,null,"月",null,null,"日"]
[null,null,null,null,null,"月",null,null,"日"]
[null,null,null,null,null,"月",null,null,"日"]
[null,null,null,null,null,"月",null,null,"日"]

{"sheet":"原本例","index":1,"n_rows":30,"n_cols":27,"rows_kept":30,"cut":false,"hidden":false,"merged":[[29,0,29,29],[26,0,26,16],[26,17,26,25],[26,26,26,29],[27,0,27,16],[27,17,27,25],[27,26,27,29],[25,0,25,16],[25,17,25,25],[25,26,25,29],[28,0,28,16],[28,17,28,25],[28,26,28,29],[23,0,23,16],[23,17,23,25],[23,26,23,29],[24,0,24,16],[24,17,24,25],[24,26,24,29],[21,0,21,16],[21,17,21,25],[21,26,21,29],[22,0,22,16],[22,17,22,25],[22,26,22,29],[19,0,19,16],[19,17,19,25],[19,26,19,29],[20,0,20,16],[20,17,20,25],[20,26,20,29],[17,0,17,16],[17,17,17,25],[17,26,17,29],[18,0,18,16],[18,17,18,25],[18,26,18,29],[15,0,15,16],[15,17,15,25],[15,26,15,29],[16,0,16,16],[16,17,16,25],[16,26,16,29],[12,0,12,6],[12,7,12,29],[13,0,13,6],[13,7,13,29],[14,0,14,6],[14,7,14,29],[8,17,8,28],[9,17,9,28],[10,0,10,6],[10,7,10,29],[11,0,11,6],[11,7,11,29],[0,20,0,29],[1,0,1,29],[3,0,5,16],[6,17,6,28],[7,17,7,28]]}
[null,null,null,null,null,null,null,null,null,null,null,null,null,null,null,null,null,null,null,null,{"$f":"IF(記入例!N10=\"あり\",記入例!T10,\"\")","v":"令和　　年　　月　　日"}]
["出　荷　証　明　書"]
[]
[{"$f":"IF(記入例!P30=\"宛名あり\",記入例!P31&CHAR(10)&記入例!P32&CHAR(10)&記入例!P33&記入例!Z30,\"\")","v":"独立行政法人都市再生機構業務受託者\n株式会社 日新コミュニティ 福岡住まいセンター\nセンター長 日新 太郎　様 "}]
[]
[]
[null,null,null,null,null,null,null,null,null,null,null,null,null,null,null,null,null,"福岡市博多区住吉４丁目３番２号"]
[null,null,null,null,null,null,null,null,null,null,null,null,null,null,null,null,null,"　　　　　　　　　　　博多エイトビル３Ｆ 　　　　　　　　　　　　　　　　　　　　　　　　　　　　　　　　　　　　　　　　　　　　　　　　　　　　　"]
[null,null,null,null,null,null,null,null,null,null,null,null,null,null,null,null,null,"日新工業株式会社　九州営業所　"]
[null,null,null,null,null,null,null,null,null,null,null,null,null,null,null,null,null,"TEL : ０９２-４５１-１０９５"]
[null,null,null,null,null,null,null,"記"]
["工　  事　  名　  称",null,null,null,null,null,null,{"$f":"記入例!L11","v":"２９－日新工業団地棟屋根増築その他修繕工事"}]
["住　　　　 　 　   所",null,null,null,null,null,null,{"$f":"記入例!P13","v":"福岡県福岡市博多区住吉４－３－２　博多エイトビル"}]
["建  設  請  負  者",null,null,null,null,null,null,{"$f":"記入例!P14","v":"日新工業株式会社 九州営業所"}]
["防  水  施  工  者",null,null,null,null,null,null,{"$f":"記入例!P15","v":"日新工業株式会社 九州営業所"}]
["商 品 名 又 は 仕 様",null,null,null,null,null,null,null,null,null,null,null,null,null,null,null,null,"規       格",null,null,null,null,null,null,null,null,"数   量"]
[{"$f":"記入例!J17","v":0},null,null,null,null,null,null,null,null,null,null,null,null,null,null,null,null,{"$f":"記入例!V17","v":""},null,null,null,null,null,null,null,null,{"$f":"記入例!AC17","v":0}]
[{"$f":"記入例!J18","v":0},null,null,null,null,null,null,null,null,null,null,null,null,null,null,null,null,{"$f":"記入例!V18","v":""},null,null,null,null,null,null,null,null,{"$f":"記入例!AC18","v":0}]
[{"$f":"記入例!J19","v":0},null,null,null,null,null,null,null,null,null,null,null,null,null,null,null,null,{"$f":"記入例!V19","v":""},null,null,null,null,null,null,null,null,{"$f":"記入例!AC19","v":0}]
[{"$f":"記入例!J20","v":0},null,null,null,null,null,null,null,null,null,null,null,null,null,null,null,null,{"$f":"記入例!V20","v":""},null,null,null,null,null,null,null,null,{"$f":"記入例!AC20","v":0}]
[{"$f":"記入例!J21","v":0},null,null,null,null,null,null,null,null,null,null,null,null,null,null,null,null,{"$f":"記入例!V21","v":""},null,null,null,null,null,null,null,null,{"$f":"記入例!AC21","v":0}]
[{"$f":"記入例!J22","v":0},null,null,null,null,null,null,null,null,null,null,null,null,null,null,null,null,{"$f":"記入例!V22","v":""},null,null,null,null,null,null,null,null,{"$f":"記入例!AC22","v":0}]
[{"$f":"記入例!J23","v":0},null,null,null,null,null,null,null,null,null,null,null,null,null,null,null,null,{"$f":"記入例!V23","v":""},null,null,null,null,null,null,null,null,{"$f":"記入例!AC23","v":0}]
[{"$f":"記入例!J24","v":0},null,null,null,null,null,null,null,null,null,null,null,null,null,null,null,null,{"$f":"記入例!V24","v":""},null,null,null,null,null,null,null,null,{"$f":"記入例!AC24","v":0}]
[{"$f":"記入例!J25","v":0},null,null,null,null,null,null,null,null,null,null,null,null,null,null,null,null,{"$f":"記入例!V25","v":""},null,null,null,null,null,null,null,null,{"$f":"記入例!AC25","v":0}]
[{"$f":"記入例!J26","v":0},null,null,null,null,null,null,null,null,null,null,null,null,null,null,null,null,{"$f":"記入例!V26","v":""},null,null,null,null,null,null,null,null,{"$f":"記入例!AC26","v":0}]
[{"$f":"記入例!J27","v":0},null,null,null,null,null,null,null,null,null,null,null,null,null,null,null,null,{"$f":"記入例!V27","v":""},null,null,null,null,null,null,null,null,{"$f":"記入例!AC27","v":0}]
[{"$f":"記入例!J28","v":0},null,null,null,null,null,null,null,null,null,null,null,null,null,null,null,null,{"$f":"記入例!V28","v":""},null,null,null,null,null,null,null,null,{"$f":"記入例!AC28","v":0}]
[{"$f":"記入例!J29","v":0},null,null,null,null,null,null,null,null,null,null,null,null,null,null,null,null,{"$f":"記入例!V29","v":""},null,null,null,null,null,null,null,null,{"$f":"記入例!AC29","v":0}]
[{"$f":"\"上記の通り、 \"&記入例!A17&\"に当社製品を出荷したことを証明いたします。\"","v":"上記の通り、 令和２年１０月２７日に当社製品を出荷したことを証明いたします。"}]

{"sheet":"入力フォーム","index":2,"n_rows":76,"n_cols":38,"rows_kept":76,"cut":false,"hidden":false,"merged":[[73,28,73,29],[73,30,73,31],[74,28,74,29],[74,30,74,31],[60,0,74,8],[72,28,72,29],[72,30,72,31],[28,28,28,29],[28,30,28,31],[15,28,15,29],[15,30,15,31],[59,28,59,29],[59,30,59,31],[60,28,60,29],[60,30,60,31],[61,28,61,29],[61,30,61,31],[17,28,17,29],[17,30,17,31],[18,28,18,29],[18,30,18,31],[19,28,19,29],[19,30,19,31],[20,28,20,29],[20,30,20,31],[21,28,21,29],[62,28,62,29],[62,30,62,31],[63,28,63,29],[71,21,71,27],[68,21,68,27],[65,21,65,27],[66,21,66,27],[67,28,67,29],[67,30,67,31],[68,28,68,29],[68,30,68,31],[69,28,69,29],[69,30,69,31],[70,28,70,29],[70,30,70,31],[71,28,71,29],[71,30,71,31],[65,28,65,29],[65,30,65,31],[66,28,66,29],[66,30,66,31],[2,23,2,31],[66,9,66,20],[70,9,70,20],[60,9,60,20],[57,0,58,8],[55,0,55,31],[18,21,18,27],[19,21,19,27],[17,21,17,27],[45,0,45,31],[47,0,47,11],[47,19,52,31],[37,13,37,31],[39,25,39,29],[42,0,42,31],[40,0,40,8],[33,0,39,8],[27,21,27,27],[26,21,26,27],[23,21,23,27],[29,0,32,8],[29,15,29,20],[29,21,29,24],[40,17,40,24],[0,0,0,31],[15,9,15,20],[15,21,15,27],[16,21,16,27],[2,0,2,11],[10,0,11,8],[9,19,9,31],[10,11,11,31],[9,16,9,18],[9,0,9,8],[9,10,9,12],[9,13,9,15],[10,9,11,10],[15,0,15,8],[16,9,16,20],[13,15,13,31],[14,15,14,31],[12,0,14,8],[3,19,3,31],[4,19,4,31],[5,19,5,31],[6,19,6,31],[16,0,28,8],[17,9,17,20],[79,21,79,27],[79,28,79,31],[75,28,75,31],[76,21,76,27],[76,28,76,31],[77,21,77,27],[78,21,78,27],[78,28,78,31],[77,28,77,31],[75,21,75,27],[39,9,39,12],[28,21,28,27],[57,9,58,31],[36,23,36,26],[63,9,63,20],[61,9,61,20],[61,21,61,27],[64,9,64,20],[64,21,64,27],[36,9,36,12],[39,13,39,17],[39,19,39,23],[40,9,40,10],[34,9,34,12],[31,15,31,31],[29,25,29,31],[29,9,29,11],[29,12,29,14],[63,30,63,31],[64,28,64,29],[64,30,64,31],[32,12,32,14],[32,9,32,11],[34,13,34,24],[67,9,67,20],[74,9,74,20],[68,9,68,20],[76,9,76,20],[81,9,81,20],[80,9,80,20],[73,9,73,20],[69,9,69,20],[79,9,79,20],[77,9,77,20],[78,9,78,20],[71,9,71,20],[75,9,75,20],[69,21,69,27],[74,21,74,27],[70,21,70,27],[72,21,72,27],[72,9,72,20],[81,2,81,4],[81,6,81,7],[80,2,80,4],[80,6,80,7],[77,6,77,7],[76,2,76,4],[76,6,76,7],[77,2,77,4],[75,6,75,7],[75,2,75,4],[79,2,79,4],[79,6,79,7],[78,2,78,4],[80,21,80,27],[80,28,80,31],[81,21,81,27],[81,28,81,31],[28,9,28,20],[26,9,26,20],[19,9,19,20],[21,21,21,27],[34,26,34,29],[31,12,31,14],[24,28,24,29],[78,6,78,7],[73,21,73,27],[59,0,59,8],[67,21,67,27],[65,9,65,20],[62,9,62,20],[62,21,62,27],[59,9,59,20],[59,21,59,27],[63,21,63,27],[60,21,60,27],[26,30,26,31],[27,28,27,29],[27,30,27,31],[4,2,4,5],[5,2,7,5],[4,6,4,9],[5,6,7,9],[12,15,12,31],[20,21,20,27],[16,28,16,29],[16,30,16,31],[21,30,21,31],[22,28,22,29],[22,30,22,31],[23,28,23,29],[23,30,23,31],[18,9,18,20],[27,9,27,20],[22,9,22,20],[23,9,23,20],[20,9,20,20],[7,19,7,31],[24,9,24,20],[22,21,22,27],[49,2,49,5],[50,2,52,5],[49,6,49,9],[50,6,52,9],[4,33,4,36],[24,21,24,27],[32,15,32,31],[30,9,30,11],[30,12,30,14],[30,15,30,31],[25,9,25,20],[25,21,25,27],[5,33,5,36],[6,33,6,36],[7,33,7,36],[12,9,12,13],[13,9,13,13],[14,9,14,13],[21,9,21,20],[31,9,31,11],[24,30,24,31],[25,28,25,29],[25,30,25,31],[26,28,26,29]]}
["出荷証明書発行依頼書入力フォーム"]
[]
["日新工業㈱九州営業所　行",null,null,null,null,null,null,null,null,null,null,null,null,null,null,null,null,null,null,"　※申請者名"]
[null,null,null,null,null,null,null,null,null,null,null,null,null,null,null,null,null,null,null,"依頼者：",null,null,null,null,null,null,null,null,null,null,null,null,null,"↓出荷証明反映箇所"]
[null,null,"所　長",null,null,null,"担当者",null,null,null,null,null,null,null,null,null,null,null,null,"住　所：",null,null,null,null,null,null,null,null,null,null,null,null,null,null,null,null,null,"プルダウン選択"]
[null,null,null,null,null,null,null,null,null,null,null,null,null,null,null,null,null,null,null,"担当者：",null,null,null,null,null,null,null,null,null,null,null,null,null,null,null,null,null,"発行日付・出荷日入力"]
[null,null,null,null,null,null,null,null,null,null,null,null,null,null,null,null,null,null,null,"連絡先：",null,null,null,null,null,null,null,null,null,null,null,null,null,null,null,null,null,"必要事項入力"]
[null,null,null,null,null,null,null,null,null,null,null,null,null,null,null,null,null,null,null,null,null,null,null,null,null,null,null,null,null,null,null,null,null,null,null,null,null,"品名・規格・数量"]
[]
["出荷証明書発行日付",null,null,null,null,null,null,null,null,"※","日付記載",null,null,"※選択",null,null,"日付："]
["工  　 事　   名",null,null,null,null,null,null,null,null,"※  "]
[]
["現  場   明  細",null,null,null,null,null,null,null,null,"※現 場 住 所",null,null,null,null,"："]
[null,null,null,null,null,null,null,null,null,"※元　　　 　請",null,null,null,null,"："]
[null,null,null,null,null,null,null,null,null,"※防水施工店",null,null,null,null,"："]
["※出 荷 年 月 日",null,null,null,null,null,null,null,null,"※品　　　　　　名",null,null,null,null,null,null,null,null,null,null,null,"※規　　格",null,null,null,null,null,null,"数量",null,"単位"]
[null,null,null,null,null,null,null,null,null,null,null,null,null,null,null,null,null,null,null,null,null,{"$f":"IF(J17=\"\",\"\",VLOOKUP(J17,製品データ!$A$2:$B$633,2,FALSE))","v":""},null,null,null,null,null,null,null,null,{"$f":"IF(J17=\"\",\"\",VLOOKUP(J17,製品データ!$A$2:$C$633,3,FALSE))","v":""},null,"※1枚目は13品目まで記入可能"]
[null,null,null,null,null,null,null,null,null,null,null,null,null,null,null,null,null,null,null,null,null,{"$f":"IF(J18=\"\",\"\",VLOOKUP(J18,製品データ!$A$2:$B$633,2,FALSE))","v":""},null,null,null,null,null,null,null,null,{"$f":"IF(J18=\"\",\"\",VLOOKUP(J18,製品データ!$A$2:$C$633,3,FALSE))","v":""},null,"　 14品目以上になる場合は【追加専用】に記入"]
[null,null,null,null,null,null,null,null,null,null,null,null,null,null,null,null,null,null,null,null,null,{"$f":"IF(J19=\"\",\"\",VLOOKUP(J19,製品データ!$A$2:$B$633,2,FALSE))","v":""},null,null,null,null,null,null,null,null,{"$f":"IF(J19=\"\",\"\",VLOOKUP(J19,製品データ!$A$2:$C$633,3,FALSE))","v":""},null,"※品名はプルダウンより選択できますのでご活用ください。"]
[null,null,null,null,null,null,null,null,null,null,null,null,null,null,null,null,null,null,null,null,null,{"$f":"IF(J20=\"\",\"\",VLOOKUP(J20,製品データ!$A$2:$B$633,2,FALSE))","v":""},null,null,null,null,null,null,null,null,{"$f":"IF(J20=\"\",\"\",VLOOKUP(J20,製品データ!$A$2:$C$633,3,FALSE))","v":""},null,"　プルダウンより選択した場合は別シートより規格が参照し自動入力されます。"]
[null,null,null,null,null,null,null,null,null,null,null,null,null,null,null,null,null,null,null,null,null,{"$f":"IF(J21=\"\",\"\",VLOOKUP(J21,製品データ!$A$2:$B$633,2,FALSE))","v":""},null,null,null,null,null,null,null,null,{"$f":"IF(J21=\"\",\"\",VLOOKUP(J21,製品データ!$A$2:$C$633,3,FALSE))","v":""},null,"　プルダウンに無い製品名の場合はお手数ですが直接入力お願いします。"]
[null,null,null,null,null,null,null,null,null,null,null,null,null,null,null,null,null,null,null,null,null,{"$f":"IF(J22=\"\",\"\",VLOOKUP(J22,製品データ!$A$2:$B$633,2,FALSE))","v":""},null,null,null,null,null,null,null,null,{"$f":"IF(J22=\"\",\"\",VLOOKUP(J22,製品データ!$A$2:$C$633,3,FALSE))","v":""},null,"　→不要な場合は規格と単位のセル関数は消して入力ください。"]
[null,null,null,null,null,null,null,null,null,null,null,null,null,null,null,null,null,null,null,null,null,{"$f":"IF(J23=\"\",\"\",VLOOKUP(J23,製品データ!$A$2:$B$633,2,FALSE))","v":""},null,null,null,null,null,null,null,null,{"$f":"IF(J23=\"\",\"\",VLOOKUP(J23,製品データ!$A$2:$C$633,3,FALSE))","v":""}]
[null,null,null,null,null,null,null,null,null,null,null,null,null,null,null,null,null,null,null,null,null,{"$f":"IF(J24=\"\",\"\",VLOOKUP(J24,製品データ!$A$2:$B$633,2,FALSE))","v":""},null,null,null,null,null,null,null,null,{"$f":"IF(J24=\"\",\"\",VLOOKUP(J24,製品データ!$A$2:$C$633,3,FALSE))","v":""}]
[null,null,null,null,null,null,null,null,null,null,null,null,null,null,null,null,null,null,null,null,null,{"$f":"IF(J25=\"\",\"\",VLOOKUP(J25,製品データ!$A$2:$B$633,2,FALSE))","v":""},null,null,null,null,null,null,null,null,{"$f":"IF(J25=\"\",\"\",VLOOKUP(J25,製品データ!$A$2:$C$633,3,FALSE))","v":""}]
[null,null,null,null,null,null,null,null,null,null,null,null,null,null,null,null,null,null,null,null,null,{"$f":"IF(J26=\"\",\"\",VLOOKUP(J26,製品データ!$A$2:$B$633,2,FALSE))","v":""},null,null,null,null,null,null,null,null,{"$f":"IF(J26=\"\",\"\",VLOOKUP(J26,製品データ!$A$2:$C$633,3,FALSE))","v":""}]
[null,null,null,null,null,null,null,null,null,null,null,null,null,null,null,null,null,null,null,null,null,{"$f":"IF(J27=\"\",\"\",VLOOKUP(J27,製品データ!$A$2:$B$633,2,FALSE))","v":""},null,null,null,null,null,null,null,null,{"$f":"IF(J27=\"\",\"\",VLOOKUP(J27,製品データ!$A$2:$C$633,3,FALSE))","v":""}]
[null,null,null,null,null,null,null,null,null,null,null,null,null,null,null,null,null,null,null,null,null,{"$f":"IF(J28=\"\",\"\",VLOOKUP(J28,製品データ!$A$2:$B$633,2,FALSE))","v":""},null,null,null,null,null,null,null,null,{"$f":"IF(J28=\"\",\"\",VLOOKUP(J28,製品データ!$A$2:$C$633,3,FALSE))","v":""}]
[null,null,null,null,null,null,null,null,null,null,null,null,null,null,null,null,null,null,null,null,null,{"$f":"IF(J29=\"\",\"\",VLOOKUP(J29,製品データ!$A$2:$B$633,2,FALSE))","v":""},null,null,null,null,null,null,null,null,{"$f":"IF(J29=\"\",\"\",VLOOKUP(J29,製品データ!$A$2:$C$633,3,FALSE))","v":""}]
["宛　　      　　名",null,null,null,null,null,null,null,null,"※",null,null,"宛名有無：",null,null,"※選択してください",null,null,null,null,null,"宛名敬称：",null,null,null,"※選択してください"]
[null,null,null,null,null,null,null,null,null,"※",null,null,"宛名③：",null,null,null,null,null,null,null,null,null,null,null,null,null,null,null,null,null,null,null,null,"←宛名を改行する場合は必要に応じてご入力下さい(上段）"]
[null,null,null,null,null,null,null,null,null,"※",null,null,"宛名②：",null,null,null,null,null,null,null,null,null,null,null,null,null,null,null,null,null,null,null,null,"←宛名を改行する場合は必要に応じてご入力下さい(中段）"]
[null,null,null,null,null,null,null,null,null,"※",null,null,"宛名①：",null,null,null,null,null,null,null,null,null,null,null,null,null,null,null,null,null,null,null,null,"←宛名本名（～様、～市長様、～組合等）はこちら　（下段）"]
["証明書発送先"]
[null,null,null,null,null,null,null,null,null,"会社名；",null,null,null,null,null,null,null,null,null,null,null,null,null,null,null,null,null,null,null,null,"様宛"]
[]
[null,null,null,null,null,null,null,null,null,"住　 所；",null,null,null,"〒",null,null,null,"－",null,null,null,null,null,null,null,null,null,"県"]
[]
[]
[null,null,null,null,null,null,null,null,null,"Ｔ Ｅ Ｌ；",null,null,null,null,null,null,null,null,"－",null,null,null,null,null,"－"]
["必要発行部数",null,null,null,null,null,null,null,null,"※　",null,null,null,null,null,null,null,null,null,null,null,null,null,null,null,null,"部"]
[]
["今般、上記明細の通り貴社より出荷されましたので､出荷証明書の発行をお願い致します。"]
[]
[]
["出荷証明書発行依頼書入力フォーム（追加用）"]
[]
["日新工業㈱九州営業所　行",null,null,null,null,null,null,null,null,null,null,null,null,null,null,null,null,null,null,"　※申請者名"]
[]
[null,null,"所　長",null,null,null,"担当者"]
[]
[]
[]
[]
[]
["     ※　項目が多い場合、下記に記入してください。　　（追加専用）"]
[]
["工  　 事　   名"]
[]
["※出 荷 年 月 日",null,null,null,null,null,null,null,null,"※品　　　　　　名",null,null,null,null,null,null,null,null,null,null,null,"※規　　格",null,null,null,null,null,null,"数量",null,"単位"]
[null,null,null,null,null,null,null,null,null,null,null,null,null,null,null,null,null,null,null,null,null,{"$f":"IF(J61=\"\",\"\",VLOOKUP(J61,製品データ!$A$2:$B$633,2,FALSE))","v":""},null,null,null,null,null,null,null,null,{"$f":"IF(J61=\"\",\"\",VLOOKUP(J61,製品データ!$A$2:$C$633,3,FALSE))","v":""},null,"※１５品目まで"]
[null,null,null,null,null,null,null,null,null,null,null,null,null,null,null,null,null,null,null,null,null,{"$f":"IF(J62=\"\",\"\",VLOOKUP(J62,製品データ!$A$2:$B$633,2,FALSE))","v":""},null,null,null,null,null,null,null,null,{"$f":"IF(J62=\"\",\"\",VLOOKUP(J62,製品データ!$A$2:$C$633,3,FALSE))","v":""}]
[null,null,null,null,null,null,null,null,null,null,null,null,null,null,null,null,null,null,null,null,null,{"$f":"IF(J63=\"\",\"\",VLOOKUP(J63,製品データ!$A$2:$B$633,2,FALSE))","v":""},null,null,null,null,null,null,null,null,{"$f":"IF(J63=\"\",\"\",VLOOKUP(J63,製品データ!$A$2:$C$633,3,FALSE))","v":""}]
[null,null,null,null,null,null,null,null,null,null,null,null,null,null,null,null,null,null,null,null,null,{"$f":"IF(J64=\"\",\"\",VLOOKUP(J64,製品データ!$A$2:$B$633,2,FALSE))","v":""},null,null,null,null,null,null,null,null,{"$f":"IF(J64=\"\",\"\",VLOOKUP(J64,製品データ!$A$2:$C$633,3,FALSE))","v":""}]
[null,null,null,null,null,null,null,null,null,null,null,null,null,null,null,null,null,null,null,null,null,{"$f":"IF(J65=\"\",\"\",VLOOKUP(J65,製品データ!$A$2:$B$633,2,FALSE))","v":""},null,null,null,null,null,null,null,null,{"$f":"IF(J65=\"\",\"\",VLOOKUP(J65,製品データ!$A$2:$C$633,3,FALSE))","v":""}]
[null,null,null,null,null,null,null,null,null,null,null,null,null,null,null,null,null,null,null,null,null,{"$f":"IF(J66=\"\",\"\",VLOOKUP(J66,製品データ!$A$2:$B$633,2,FALSE))","v":""},null,null,null,null,null,null,null,null,{"$f":"IF(J66=\"\",\"\",VLOOKUP(J66,製品データ!$A$2:$C$633,3,FALSE))","v":""}]
[null,null,null,null,null,null,null,null,null,null,null,null,null,null,null,null,null,null,null,null,null,{"$f":"IF(J67=\"\",\"\",VLOOKUP(J67,製品データ!$A$2:$B$633,2,FALSE))","v":""},null,null,null,null,null,null,null,null,{"$f":"IF(J67=\"\",\"\",VLOOKUP(J67,製品データ!$A$2:$C$633,3,FALSE))","v":""}]
[null,null,null,null,null,null,null,null,null,null,null,null,null,null,null,null,null,null,null,null,null,{"$f":"IF(J68=\"\",\"\",VLOOKUP(J68,製品データ!$A$2:$B$633,2,FALSE))","v":""},null,null,null,null,null,null,null,null,{"$f":"IF(J68=\"\",\"\",VLOOKUP(J68,製品データ!$A$2:$C$633,3,FALSE))","v":""}]
[null,null,null,null,null,null,null,null,null,null,null,null,null,null,null,null,null,null,null,null,null,{"$f":"IF(J69=\"\",\"\",VLOOKUP(J69,製品データ!$A$2:$B$633,2,FALSE))","v":""},null,null,null,null,null,null,null,null,{"$f":"IF(J69=\"\",\"\",VLOOKUP(J69,製品データ!$A$2:$C$633,3,FALSE))","v":""}]
[null,null,null,null,null,null,null,null,null,null,null,null,null,null,null,null,null,null,null,null,null,{"$f":"IF(J70=\"\",\"\",VLOOKUP(J70,製品データ!$A$2:$B$633,2,FALSE))","v":""},null,null,null,null,null,null,null,null,{"$f":"IF(J70=\"\",\"\",VLOOKUP(J70,製品データ!$A$2:$C$633,3,FALSE))","v":""}]
[null,null,null,null,null,null,null,null,null,null,null,null,null,null,null,null,null,null,null,null,null,{"$f":"IF(J71=\"\",\"\",VLOOKUP(J71,製品データ!$A$2:$B$633,2,FALSE))","v":""},null,null,null,null,null,null,null,null,{"$f":"IF(J71=\"\",\"\",VLOOKUP(J71,製品データ!$A$2:$C$633,3,FALSE))","v":""}]
[null,null,null,null,null,null,null,null,null,null,null,null,null,null,null,null,null,null,null,null,null,{"$f":"IF(J72=\"\",\"\",VLOOKUP(J72,製品データ!$A$2:$B$633,2,FALSE))","v":""},null,null,null,null,null,null,null,null,{"$f":"IF(J72=\"\",\"\",VLOOKUP(J72,製品データ!$A$2:$C$633,3,FALSE))","v":""}]
[null,null,null,null,null,null,null,null,null,null,null,null,null,null,null,null,null,null,null,null,null,{"$f":"IF(J73=\"\",\"\",VLOOKUP(J73,製品データ!$A$2:$B$633,2,FALSE))","v":""},null,null,null,null,null,null,null,null,{"$f":"IF(J73=\"\",\"\",VLOOKUP(J73,製品データ!$A$2:$C$633,3,FALSE))","v":""}]
[null,null,null,null,null,null,null,null,null,null,null,null,null,null,null,null,null,null,null,null,null,{"$f":"IF(J74=\"\",\"\",VLOOKUP(J74,製品データ!$A$2:$B$633,2,FALSE))","v":""},null,null,null,null,null,null,null,null,{"$f":"IF(J74=\"\",\"\",VLOOKUP(J74,製品データ!$A$2:$C$633,3,FALSE))","v":""}]
[null,null,null,null,null,null,null,null,null,null,null,null,null,null,null,null,null,null,null,null,null,{"$f":"IF(J75=\"\",\"\",VLOOKUP(J75,製品データ!$A$2:$B$633,2,FALSE))","v":""},null,null,null,null,null,null,null,null,{"$f":"IF(J75=\"\",\"\",VLOOKUP(J75,製品データ!$A$2:$C$633,3,FALSE))","v":""}]
[null,null,null,null,null,null,null,null,null,null,null,null,null,null,null,null,null,null,null,null,null,null,null,null,null,null,null,null,null,null,null,null,"※29品目以上になる場合はご相談下さい"]

{"sheet":"原本(7段用)","index":3,"n_rows":24,"n_cols":27,"rows_kept":24,"cut":false,"hidden":false,"merged":[[0,20,0,29],[10,7,10,29],[11,7,11,29],[12,0,12,6],[7,17,7,28],[12,7,12,29],[1,0,1,29],[8,17,8,28],[9,17,9,28],[3,0,5,16],[11,0,11,6],[10,0,10,6],[6,17,6,28],[14,7,14,29],[23,0,23,29],[22,26,22,29],[21,26,21,29],[13,0,13,6],[15,0,15,16],[15,17,15,25],[16,0,16,16],[20,26,20,29],[17,26,17,29],[18,26,18,29],[15,26,15,29],[13,7,13,29],[16,26,16,29],[14,0,14,6],[18,17,18,25],[19,0,19,16],[19,26,19,29],[22,0,22,16],[22,17,22,25],[16,17,16,25],[17,0,17,16],[17,17,17,25],[18,0,18,16],[21,0,21,16],[21,17,21,25],[20,0,20,16],[20,17,20,25],[19,17,19,25]]}
[null,null,null,null,null,null,null,null,null,null,null,null,null,null,null,null,null,null,null,null,{"$f":"IF(入力フォーム!N10=\"あり\",入力フォーム!T10,\"\")","v":""}]
["出　荷　証　明　書"]
[]
[{"$f":"IF(入力フォーム!P30=\"宛名あり\",入力フォーム!P31&CHAR(10)&入力フォーム!P32&CHAR(10)&入力フォーム!P33&入力フォーム!Z30,\"\")","v":""}]
[]
[]
[null,null,null,null,null,null,null,null,null,null,null,null,null,null,null,null,null,"福岡市博多区住吉４丁目３番２号"]
[null,null,null,null,null,null,null,null,null,null,null,null,null,null,null,null,null,"　　　　　　　　　　　博多エイトビル３Ｆ 　　　　　　　　　　　　　　　　　　　　　　　　　　　　　　　　　　　　　　　　　　　　　　　　　　　　　"]
[null,null,null,null,null,null,null,null,null,null,null,null,null,null,null,null,null,"日新工業株式会社　九州営業所　"]
[null,null,null,null,null,null,null,null,null,null,null,null,null,null,null,null,null,"TEL : ０９２-４５１-１０９５"]
[null,null,null,null,null,null,null,"記"]
["工　  事　  名　  称",null,null,null,null,null,null,{"$f":"入力フォーム!L11","v":0}]
["住　　　　 　 　   所",null,null,null,null,null,null,{"$f":"入力フォーム!P13","v":0}]
["建  設  請  負  者",null,null,null,null,null,null,{"$f":"入力フォーム!P14","v":0}]
["防  水  施  工  者",null,null,null,null,null,null,{"$f":"入力フォーム!P15","v":0}]
["商 品 名 又 は 仕 様",null,null,null,null,null,null,null,null,null,null,null,null,null,null,null,null,"規       格",null,null,null,null,null,null,null,null,"数   量"]
[{"$f":"入力フォーム!J17","v":0},null,null,null,null,null,null,null,null,null,null,null,null,null,null,null,null,{"$f":"入力フォーム!V17","v":""},null,null,null,null,null,null,null,null,{"$f":"入力フォーム!AC17&入力フォーム!AE17","v":""}]
[{"$f":"入力フォーム!J18","v":0},null,null,null,null,null,null,null,null,null,null,null,null,null,null,null,null,{"$f":"入力フォーム!V18","v":""},null,null,null,null,null,null,null,null,{"$f":"入力フォーム!AC18&入力フォーム!AE18","v":""}]
[{"$f":"入力フォーム!J19","v":0},null,null,null,null,null,null,null,null,null,null,null,null,null,null,null,null,{"$f":"入力フォーム!V19","v":""},null,null,null,null,null,null,null,null,{"$f":"入力フォーム!AC19&入力フォーム!AE19","v":""}]
[{"$f":"入力フォーム!J20","v":0},null,null,null,null,null,null,null,null,null,null,null,null,null,null,null,null,{"$f":"入力フォーム!V20","v":""},null,null,null,null,null,null,null,null,{"$f":"入力フォーム!AC20&入力フォーム!AE20","v":""}]
[{"$f":"入力フォーム!J21","v":0},null,null,null,null,null,null,null,null,null,null,null,null,null,null,null,null,{"$f":"入力フォーム!V21","v":""},null,null,null,null,null,null,null,null,{"$f":"入力フォーム!AC21&入力フォーム!AE21","v":""}]
[{"$f":"入力フォーム!J22","v":0},null,null,null,null,null,null,null,null,null,null,null,null,null,null,null,null,{"$f":"入力フォーム!V22","v":""},null,null,null,null,null,null,null,null,{"$f":"入力フォーム!AC22&入力フォーム!AE22","v":""}]
[{"$f":"入力フォーム!J23","v":0},null,null,null,null,null,null,null,null,null,null,null,null,null,null,null,null,{"$f":"入力フォーム!V23","v":""},null,null,null,null,null,null,null,null,{"$f":"入力フォーム!AC23&入力フォーム!AE23","v":""}]
[{"$f":"\"上記の通り \"&入力フォーム!A17&\"に当社製品を出荷したことを証明いたします。\"","v":"上記の通り に当社製品を出荷したことを証明いたします。"}]

{"sheet":"原本(13段用) ","index":4,"n_rows":30,"n_cols":27,"rows_kept":30,"cut":false,"hidden":false,"merged":[[12,0,12,6],[12,7,12,29],[0,20,0,29],[1,0,1,29],[6,17,6,28],[7,17,7,28],[8,17,8,28],[3,0,5,16],[9,17,9,28],[10,0,10,6],[10,7,10,29],[11,0,11,6],[11,7,11,29],[13,0,13,6],[13,7,13,29],[14,0,14,6],[14,7,14,29],[15,0,15,16],[15,17,15,25],[15,26,15,29],[16,0,16,16],[16,17,16,25],[16,26,16,29],[17,0,17,16],[17,17,17,25],[17,26,17,29],[18,0,18,16],[18,17,18,25],[18,26,18,29],[19,0,19,16],[19,17,19,25],[19,26,19,29],[20,0,20,16],[20,17,20,25],[20,26,20,29],[21,0,21,16],[21,17,21,25],[21,26,21,29],[28,0,28,16],[28,17,28,25],[28,26,28,29],[29,0,29,29],[22,0,22,16],[22,17,22,25],[22,26,22,29],[23,0,23,16],[23,17,23,25],[23,26,23,29],[24,0,24,16],[24,17,24,25],[24,26,24,29],[25,0,25,16],[25,17,25,25],[25,26,25,29],[26,0,26,16],[26,17,26,25],[26,26,26,29],[27,0,27,16],[27,17,27,25],[27,26,27,29]]}
[null,null,null,null,null,null,null,null,null,null,null,null,null,null,null,null,null,null,null,null,{"$f":"IF(入力フォーム!N10=\"あり\",入力フォーム!T10,\"\")","v":""}]
["出　荷　証　明　書"]
[]
[{"$f":"IF(入力フォーム!P30=\"宛名あり\",入力フォーム!P31&CHAR(10)&入力フォーム!P32&CHAR(10)&入力フォーム!P33&入力フォーム!Z30,\"\")","v":""}]
[]
[]
[null,null,null,null,null,null,null,null,null,null,null,null,null,null,null,null,null,"福岡市博多区住吉４丁目３番２号"]
[null,null,null,null,null,null,null,null,null,null,null,null,null,null,null,null,null,"　　　　　　　　　　　博多エイトビル３Ｆ 　　　　　　　　　　　　　　　　　　　　　　　　　　　　　　　　　　　　　　　　　　　　　　　　　　　　　"]
[null,null,null,null,null,null,null,null,null,null,null,null,null,null,null,null,null,"日新工業株式会社　九州営業所　"]
[null,null,null,null,null,null,null,null,null,null,null,null,null,null,null,null,null,"TEL : ０９２-４５１-１０９５"]
[null,null,null,null,null,null,null,"記"]
["工　  事　  名　  称",null,null,null,null,null,null,{"$f":"入力フォーム!L11","v":0}]
["住　　　　 　 　   所",null,null,null,null,null,null,{"$f":"入力フォーム!P13","v":0}]
["建  設  請  負  者",null,null,null,null,null,null,{"$f":"入力フォーム!P14","v":0}]
["防  水  施  工  者",null,null,null,null,null,null,{"$f":"入力フォーム!P15","v":0}]
["商 品 名 又 は 仕 様",null,null,null,null,null,null,null,null,null,null,null,null,null,null,null,null,"規       格",null,null,null,null,null,null,null,null,"数   量"]
[{"$f":"入力フォーム!J17","v":0},null,null,null,null,null,null,null,null,null,null,null,null,null,null,null,null,{"$f":"入力フォーム!V17","v":""},null,null,null,null,null,null,null,null,{"$f":"入力フォーム!AC17&入力フォーム!AE17","v":""}]
[{"$f":"入力フォーム!J18","v":0},null,null,null,null,null,null,null,null,null,null,null,null,null,null,null,null,{"$f":"入力フォーム!V18","v":""},null,null,null,null,null,null,null,null,{"$f":"入力フォーム!AC18&入力フォーム!AE18","v":""}]
[{"$f":"入力フォーム!J19","v":0},null,null,null,null,null,null,null,null,null,null,null,null,null,null,null,null,{"$f":"入力フォーム!V19","v":""},null,null,null,null,null,null,null,null,{"$f":"入力フォーム!AC19&入力フォーム!AE19","v":""}]
[{"$f":"入力フォーム!J20","v":0},null,null,null,null,null,null,null,null,null,null,null,null,null,null,null,null,{"$f":"入力フォーム!V20","v":""},null,null,null,null,null,null,null,null,{"$f":"入力フォーム!AC20&入力フォーム!AE20","v":""}]
[{"$f":"入力フォーム!J21","v":0},null,null,null,null,null,null,null,null,null,null,null,null,null,null,null,null,{"$f":"入力フォーム!V21","v":""},null,null,null,null,null,null,null,null,{"$f":"入力フォーム!AC21&入力フォーム!AE21","v":""}]
[{"$f":"入力フォーム!J22","v":0},null,null,null,null,null,null,null,null,null,null,null,null,null,null,null,null,{"$f":"入力フォーム!V22","v":""},null,null,null,null,null,null,null,null,{"$f":"入力フォーム!AC22&入力フォーム!AE22","v":""}]
[{"$f":"入力フォーム!J23","v":0},null,null,null,null,null,null,null,null,null,null,null,null,null,null,null,null,{"$f":"入力フォーム!V23","v":""},null,null,null,null,null,null,null,null,{"$f":"入力フォーム!AC23&入力フォーム!AE23","v":""}]
[{"$f":"入力フォーム!J24","v":0},null,null,null,null,null,null,null,null,null,null,null,null,null,null,null,null,{"$f":"入力フォーム!V24","v":""},null,null,null,null,null,null,null,null,{"$f":"入力フォーム!AC24&入力フォーム!AE24","v":""}]
[{"$f":"入力フォーム!J25","v":0},null,null,null,null,null,null,null,null,null,null,null,null,null,null,null,null,{"$f":"入力フォーム!V25","v":""},null,null,null,null,null,null,null,null,{"$f":"入力フォーム!AC25&入力フォーム!AE25","v":""}]
[{"$f":"入力フォーム!J26","v":0},null,null,null,null,null,null,null,null,null,null,null,null,null,null,null,null,{"$f":"入力フォーム!V26","v":""},null,null,null,null,null,null,null,null,{"$f":"入力フォーム!AC26&入力フォーム!AE26","v":""}]
[{"$f":"入力フォーム!J27","v":0},null,null,null,null,null,null,null,null,null,null,null,null,null,null,null,null,{"$f":"入力フォーム!V27","v":""},null,null,null,null,null,null,null,null,{"$f":"入力フォーム!AC27&入力フォーム!AE27","v":""}]
[{"$f":"入力フォーム!J28","v":0},null,null,null,null,null,null,null,null,null,null,null,null,null,null,null,null,{"$f":"入力フォーム!V28","v":""},null,null,null,null,null,null,null,null,{"$f":"入力フォーム!AC28&入力フォーム!AE28","v":""}]
[{"$f":"入力フォーム!J29","v":0},null,null,null,null,null,null,null,null,null,null,null,null,null,null,null,null,{"$f":"入力フォーム!V29","v":""},null,null,null,null,null,null,null,null,{"$f":"入力フォーム!AC29&入力フォーム!AE29","v":""}]
[{"$f":"\"上記の通り \"&入力フォーム!A17&\"に当社製品を出荷したことを証明いたします。\"","v":"上記の通り に当社製品を出荷したことを証明いたします。"}]

{"sheet":"原本(追加用) ","index":5,"n_rows":32,"n_cols":27,"rows_kept":32,"cut":false,"hidden":false,"merged":[[31,0,31,29],[26,0,26,16],[26,17,26,25],[26,26,26,29],[27,0,27,16],[27,17,27,25],[27,26,27,29],[28,0,28,16],[28,17,28,25],[28,26,28,29],[29,0,29,16],[29,17,29,25],[29,26,29,29],[25,0,25,16],[25,17,25,25],[25,26,25,29],[30,0,30,16],[30,17,30,25],[30,26,30,29],[23,0,23,16],[23,17,23,25],[23,26,23,29],[24,0,24,16],[24,17,24,25],[24,26,24,29],[21,0,21,16],[21,17,21,25],[21,26,21,29],[22,0,22,16],[22,17,22,25],[22,26,22,29],[19,0,19,16],[19,17,19,25],[19,26,19,29],[20,0,20,16],[20,17,20,25],[20,26,20,29],[17,0,17,16],[17,17,17,25],[17,26,17,29],[18,0,18,16],[18,17,18,25],[18,26,18,29],[15,0,15,16],[15,17,15,25],[15,26,15,29],[16,0,16,16],[16,17,16,25],[16,26,16,29],[12,0,12,6],[12,7,12,29],[13,0,13,6],[13,7,13,29],[14,0,14,6],[14,7,14,29],[8,17,8,28],[9,17,9,28],[10,0,10,6],[10,7,10,29],[11,0,11,6],[11,7,11,29],[0,20,0,29],[1,0,1,29],[3,0,5,16],[6,17,6,28],[7,17,7,28]]}
[null,null,null,null,null,null,null,null,null,null,null,null,null,null,null,null,null,null,null,null,{"$f":"IF(入力フォーム!N10=\"あり\",入力フォーム!T10,\"\")","v":""}]
["出　荷　証　明　書"]
[]
[{"$f":"IF(入力フォーム!P30=\"宛名あり\",入力フォーム!P31&CHAR(10)&入力フォーム!P32&CHAR(10)&入力フォーム!P33&入力フォーム!Z30,\"\")","v":""}]
[]
[]
[null,null,null,null,null,null,null,null,null,null,null,null,null,null,null,null,null,"福岡市博多区住吉４丁目３番２号"]
[null,null,null,null,null,null,null,null,null,null,null,null,null,null,null,null,null,"　　　　　　　　　　　博多エイトビル３Ｆ 　　　　　　　　　　　　　　　　　　　　　　　　　　　　　　　　　　　　　　　　　　　　　　　　　　　　　"]
[null,null,null,null,null,null,null,null,null,null,null,null,null,null,null,null,null,"日新工業株式会社　九州営業所　"]
[null,null,null,null,null,null,null,null,null,null,null,null,null,null,null,null,null,"TEL : ０９２-４５１-１０９５"]
[null,null,null,null,null,null,null,"記"]
["工　  事　  名　  称",null,null,null,null,null,null,{"$f":"入力フォーム!L11","v":0}]
["住　　　　 　 　   所",null,null,null,null,null,null,{"$f":"入力フォーム!P13","v":0}]
["建  設  請  負  者",null,null,null,null,null,null,{"$f":"入力フォーム!P14","v":0}]
["防  水  施  工  者",null,null,null,null,null,null,{"$f":"入力フォーム!P15","v":0}]
["商 品 名 又 は 仕 様",null,null,null,null,null,null,null,null,null,null,null,null,null,null,null,null,"規       格",null,null,null,null,null,null,null,null,"数   量"]
[{"$f":"入力フォーム!J61","v":0},null,null,null,null,null,null,null,null,null,null,null,null,null,null,null,null,{"$f":"入力フォーム!V61","v":""},null,null,null,null,null,null,null,null,{"$f":"入力フォーム!AC61&入力フォーム!AE61","v":""}]
[{"$f":"入力フォーム!J62","v":0},null,null,null,null,null,null,null,null,null,null,null,null,null,null,null,null,{"$f":"入力フォーム!V62","v":""},null,null,null,null,null,null,null,null,{"$f":"入力フォーム!AC62&入力フォーム!AE62","v":""}]
[{"$f":"入力フォーム!J63","v":0},null,null,null,null,null,null,null,null,null,null,null,null,null,null,null,null,{"$f":"入力フォーム!V63","v":""},null,null,null,null,null,null,null,null,{"$f":"入力フォーム!AC63&入力フォーム!AE63","v":""}]
[{"$f":"入力フォーム!J64","v":0},null,null,null,null,null,null,null,null,null,null,null,null,null,null,null,null,{"$f":"入力フォーム!V64","v":""},null,null,null,null,null,null,null,null,{"$f":"入力フォーム!AC64&入力フォーム!AE64","v":""}]
[{"$f":"入力フォーム!J65","v":0},null,null,null,null,null,null,null,null,null,null,null,null,null,null,null,null,{"$f":"入力フォーム!V65","v":""},null,null,null,null,null,null,null,null,{"$f":"入力フォーム!AC65&入力フォーム!AE65","v":""}]
[{"$f":"入力フォーム!J66","v":0},null,null,null,null,null,null,null,null,null,null,null,null,null,null,null,null,{"$f":"入力フォーム!V66","v":""},null,null,null,null,null,null,null,null,{"$f":"入力フォーム!AC66&入力フォーム!AE66","v":""}]
[{"$f":"入力フォーム!J67","v":0},null,null,null,null,null,null,null,null,null,null,null,null,null,null,null,null,{"$f":"入力フォーム!V67","v":""},null,null,null,null,null,null,null,null,{"$f":"入力フォーム!AC67&入力フォーム!AE67","v":""}]
[{"$f":"入力フォーム!J68","v":0},null,null,null,null,null,null,null,null,null,null,null,null,null,null,null,null,{"$f":"入力フォーム!V68","v":""},null,null,null,null,null,null,null,null,{"$f":"入力フォーム!AC68&入力フォーム!AE68","v":""}]
[{"$f":"入力フォーム!J69","v":0},null,null,null,null,null,null,null,null,null,null,null,null,null,null,null,null,{"$f":"入力フォーム!V69","v":""},null,null,null,null,null,null,null,null,{"$f":"入力フォーム!AC69&入力フォーム!AE69","v":""}]
[{"$f":"入力フォーム!J70","v":0},null,null,null,null,null,null,null,null,null,null,null,null,null,null,null,null,{"$f":"入力フォーム!V70","v":""},null,null,null,null,null,null,null,null,{"$f":"入力フォーム!AC70&入力フォーム!AE70","v":""}]
[{"$f":"入力フォーム!J71","v":0},null,null,null,null,null,null,null,null,null,null,null,null,null,null,null,null,{"$f":"入力フォーム!V71","v":""},null,null,null,null,null,null,null,null,{"$f":"入力フォーム!AC71&入力フォーム!AE71","v":""}]
[{"$f":"入力フォーム!J72","v":0},null,null,null,null,null,null,null,null,null,null,null,null,null,null,null,null,{"$f":"入力フォーム!V72","v":""},null,null,null,null,null,null,null,null,{"$f":"入力フォーム!AC72&入力フォーム!AE72","v":""}]
[{"$f":"入力フォーム!J73","v":0},null,null,null,null,null,null,null,null,null,null,null,null,null,null,null,null,{"$f":"入力フォーム!V73","v":""},null,null,null,null,null,null,null,null,{"$f":"入力フォーム!AC73&入力フォーム!AE73","v":""}]
[{"$f":"入力フォーム!J74","v":0},null,null,null,null,null,null,null,null,null,null,null,null,null,null,null,null,{"$f":"入力フォーム!V74","v":""},null,null,null,null,null,null,null,null,{"$f":"入力フォーム!AC74&入力フォーム!AE74","v":""}]
[{"$f":"入力フォーム!J75","v":0},null,null,null,null,null,null,null,null,null,null,null,null,null,null,null,null,{"$f":"入力フォーム!V75","v":""},null,null,null,null,null,null,null,null,{"$f":"入力フォーム!AC75&入力フォーム!AE75","v":""}]
[{"$f":"\"上記の通り \"&入力フォーム!A17&\"に当社製品を出荷したことを証明いたします。\"","v":"上記の通り に当社製品を出荷したことを証明いたします。"}]

{"sheet":"依頼書印刷用","index":6,"n_rows":74,"n_cols":31,"rows_kept":74,"cut":false,"hidden":false,"merged":[[79,2,79,4],[79,6,79,7],[79,9,79,20],[79,21,79,27],[79,28,79,31],[80,2,80,4],[80,6,80,7],[80,9,80,20],[80,21,80,27],[80,28,80,31],[77,2,77,4],[77,6,77,7],[77,9,77,20],[77,21,77,27],[77,28,77,31],[78,2,78,4],[78,6,78,7],[78,9,78,20],[78,21,78,27],[78,28,78,31],[75,2,75,4],[75,6,75,7],[75,9,75,20],[75,21,75,27],[75,28,75,31],[76,2,76,4],[76,6,76,7],[76,9,76,20],[76,21,76,27],[76,28,76,31],[73,9,73,20],[73,21,73,27],[74,2,74,4],[74,6,74,7],[74,9,74,20],[74,21,74,27],[74,28,74,31],[73,28,73,29],[73,30,73,31],[59,0,73,8],[71,9,71,20],[71,21,71,27],[71,28,71,29],[71,30,71,31],[72,9,72,20],[72,21,72,27],[72,28,72,29],[72,30,72,31],[70,9,70,20],[70,21,70,27],[70,28,70,29],[70,30,70,31],[67,9,67,20],[67,21,67,27],[67,28,67,29],[67,30,67,31],[68,9,68,20],[68,21,68,27],[68,28,68,29],[68,30,68,31],[63,28,63,29],[63,30,63,31],[64,9,64,20],[64,21,64,27],[64,28,64,29],[64,30,64,31],[69,9,69,20],[69,21,69,27],[69,28,69,29],[69,30,69,31],[62,9,62,20],[62,21,62,27],[62,28,62,29],[62,30,62,31],[59,9,59,20],[59,21,59,27],[59,28,59,29],[59,30,59,31],[60,9,60,20],[60,21,60,27],[60,28,60,29],[60,30,60,31],[61,9,61,20],[65,9,65,20],[65,21,65,27],[65,28,65,29],[65,30,65,31],[66,9,66,20],[66,21,66,27],[66,28,66,29],[66,30,66,31],[63,9,63,20],[63,21,63,27],[54,0,54,31],[56,0,57,8],[56,9,57,31],[58,0,58,8],[58,9,58,20],[58,21,58,27],[58,28,58,29],[58,30,58,31],[61,21,61,27],[61,28,61,29],[61,30,61,31],[33,0,38,8],[34,9,34,12],[34,13,34,24],[34,26,34,29],[36,9,36,12],[29,0,32,8],[29,9,29,11],[29,12,29,14],[29,15,29,20],[29,21,29,24],[29,25,29,31],[30,9,30,11],[30,12,30,14],[30,15,30,31],[31,9,31,11],[36,23,36,26],[37,13,37,31],[38,9,38,12],[38,13,38,17],[38,19,38,23],[38,25,38,29],[31,12,31,14],[31,15,31,31],[32,9,32,11],[39,0,39,8],[39,9,39,10],[39,17,39,24],[41,0,41,31],[44,0,44,31],[46,0,46,11],[46,19,51,31],[48,2,48,5],[48,6,48,9],[49,2,51,5],[49,6,51,9],[32,12,32,14],[32,15,32,31],[27,9,27,20],[27,21,27,27],[27,28,27,29],[27,30,27,31],[28,9,28,20],[28,21,28,27],[28,28,28,29],[28,30,28,31],[25,9,25,20],[25,21,25,27],[25,28,25,29],[25,30,25,31],[26,9,26,20],[26,21,26,27],[26,28,26,29],[26,30,26,31],[18,28,18,29],[18,30,18,31],[23,9,23,20],[23,21,23,27],[23,28,23,29],[23,30,23,31],[24,9,24,20],[24,21,24,27],[24,28,24,29],[24,30,24,31],[21,9,21,20],[21,21,21,27],[21,28,21,29],[21,30,21,31],[22,9,22,20],[22,21,22,27],[22,28,22,29],[22,30,22,31],[15,0,15,8],[15,9,15,20],[15,21,15,27],[15,28,15,29],[15,30,15,31],[16,0,28,8],[16,9,16,20],[16,21,16,27],[16,28,16,29],[16,30,16,31],[19,9,19,20],[19,21,19,27],[19,28,19,29],[19,30,19,31],[20,9,20,20],[20,21,20,27],[20,28,20,29],[20,30,20,31],[17,9,17,20],[17,21,17,27],[17,28,17,29],[17,30,17,31],[10,0,11,8],[10,9,11,10],[10,11,11,31],[5,2,7,5],[5,6,7,9],[5,19,5,31],[6,19,6,31],[7,19,7,31],[18,9,18,20],[18,21,18,27],[12,0,14,8],[12,9,12,13],[12,15,12,31],[13,9,13,13],[13,15,13,31],[14,9,14,13],[14,15,14,31],[0,0,0,31],[2,0,2,11],[2,23,2,31],[3,19,3,31],[4,2,4,5],[4,6,4,9],[4,19,4,31],[9,0,9,8],[9,10,9,12],[9,13,9,15],[9,16,9,18],[9,19,9,31]]}
["出荷証明書発行依頼書入力フォーム"]
[]
["日新工業㈱九州営業所　行",null,null,null,null,null,null,null,null,null,null,null,null,null,null,null,null,null,null,"　※申請者名"]
[null,null,null,null,null,null,null,null,null,null,null,null,null,null,null,null,null,null,null,{"$f":"入力フォーム!T4","v":"依頼者："}]
[null,null,"所　長",null,null,null,"担当者",null,null,null,null,null,null,null,null,null,null,null,null,{"$f":"入力フォーム!T5","v":"住　所："}]
[null,null,null,null,null,null,null,null,null,null,null,null,null,null,null,null,null,null,null,{"$f":"入力フォーム!T6","v":"担当者："}]
[null,null,null,null,null,null,null,null,null,null,null,null,null,null,null,null,null,null,null,{"$f":"入力フォーム!T7","v":"連絡先："}]
[]
[]
["出荷証明書発行日付",null,null,null,null,null,null,null,null,"※","日付記載",null,null,{"$f":"入力フォーム!N10","v":"※選択"},null,null,"日付：",null,null,{"$f":"入力フォーム!T10","v":0}]
["工  　 事　   名",null,null,null,null,null,null,null,null,"※  ",null,{"$f":"入力フォーム!L11","v":0}]
[]
["現  場   明  細",null,null,null,null,null,null,null,null,"※現 場 住 所",null,null,null,null,"：",{"$f":"入力フォーム!P13","v":0}]
[null,null,null,null,null,null,null,null,null,"※元　　　 　請",null,null,null,null,"：",{"$f":"入力フォーム!P14","v":0}]
[null,null,null,null,null,null,null,null,null,"※防水施工店",null,null,null,null,"：",{"$f":"入力フォーム!P15","v":0}]
["※出 荷 年 月 日",null,null,null,null,null,null,null,null,"※品　　　　　　名",null,null,null,null,null,null,null,null,null,null,null,"※規　　格",null,null,null,null,null,null,"数量",null,"単位"]
[{"$f":"入力フォーム!A17","v":0},null,null,null,null,null,null,null,null,{"$f":"入力フォーム!J17","v":0},null,null,null,null,null,null,null,null,null,null,null,{"$f":"入力フォーム!V17","v":""},null,null,null,null,null,null,{"$f":"入力フォーム!AC17","v":0},null,{"$f":"入力フォーム!AE17","v":""}]
[null,null,null,null,null,null,null,null,null,{"$f":"入力フォーム!J18","v":0},null,null,null,null,null,null,null,null,null,null,null,{"$f":"入力フォーム!V18","v":""},null,null,null,null,null,null,{"$f":"入力フォーム!AC18","v":0},null,{"$f":"入力フォーム!AE18","v":""}]
[null,null,null,null,null,null,null,null,null,{"$f":"入力フォーム!J19","v":0},null,null,null,null,null,null,null,null,null,null,null,{"$f":"入力フォーム!V19","v":""},null,null,null,null,null,null,{"$f":"入力フォーム!AC19","v":0},null,{"$f":"入力フォーム!AE19","v":""}]
[null,null,null,null,null,null,null,null,null,{"$f":"入力フォーム!J20","v":0},null,null,null,null,null,null,null,null,null,null,null,{"$f":"入力フォーム!V20","v":""},null,null,null,null,null,null,{"$f":"入力フォーム!AC20","v":0},null,{"$f":"入力フォーム!AE20","v":""}]
[null,null,null,null,null,null,null,null,null,{"$f":"入力フォーム!J21","v":0},null,null,null,null,null,null,null,null,null,null,null,{"$f":"入力フォーム!V21","v":""},null,null,null,null,null,null,{"$f":"入力フォーム!AC21","v":0},null,{"$f":"入力フォーム!AE21","v":""}]
[null,null,null,null,null,null,null,null,null,{"$f":"入力フォーム!J22","v":0},null,null,null,null,null,null,null,null,null,null,null,{"$f":"入力フォーム!V22","v":""},null,null,null,null,null,null,{"$f":"入力フォーム!AC22","v":0},null,{"$f":"入力フォーム!AE22","v":""}]
[null,null,null,null,null,null,null,null,null,{"$f":"入力フォーム!J23","v":0},null,null,null,null,null,null,null,null,null,null,null,{"$f":"入力フォーム!V23","v":""},null,null,null,null,null,null,{"$f":"入力フォーム!AC23","v":0},null,{"$f":"入力フォーム!AE23","v":""}]
[null,null,null,null,null,null,null,null,null,{"$f":"入力フォーム!J24","v":0},null,null,null,null,null,null,null,null,null,null,null,{"$f":"入力フォーム!V24","v":""},null,null,null,null,null,null,{"$f":"入力フォーム!AC24","v":0},null,{"$f":"入力フォーム!AE24","v":""}]
[null,null,null,null,null,null,null,null,null,{"$f":"入力フォーム!J25","v":0},null,null,null,null,null,null,null,null,null,null,null,{"$f":"入力フォーム!V25","v":""},null,null,null,null,null,null,{"$f":"入力フォーム!AC25","v":0},null,{"$f":"入力フォーム!AE25","v":""}]
[null,null,null,null,null,null,null,null,null,{"$f":"入力フォーム!J26","v":0},null,null,null,null,null,null,null,null,null,null,null,{"$f":"入力フォーム!V26","v":""},null,null,null,null,null,null,{"$f":"入力フォーム!AC26","v":0},null,{"$f":"入力フォーム!AE26","v":""}]
[null,null,null,null,null,null,null,null,null,{"$f":"入力フォーム!J27","v":0},null,null,null,null,null,null,null,null,null,null,null,{"$f":"入力フォーム!V27","v":""},null,null,null,null,null,null,{"$f":"入力フォーム!AC27","v":0},null,{"$f":"入力フォーム!AE27","v":""}]
[null,null,null,null,null,null,null,null,null,{"$f":"入力フォーム!J28","v":0},null,null,null,null,null,null,null,null,null,null,null,{"$f":"入力フォーム!V28","v":""},null,null,null,null,null,null,{"$f":"入力フォーム!AC28","v":0},null,{"$f":"入力フォーム!AE28","v":""}]
[null,null,null,null,null,null,null,null,null,{"$f":"入力フォーム!J29","v":0},null,null,null,null,null,null,null,null,null,null,null,{"$f":"入力フォーム!V29","v":""},null,null,null,null,null,null,{"$f":"入力フォーム!AC29","v":0},null,{"$f":"入力フォーム!AE29","v":""}]
["宛　　      　　名",null,null,null,null,null,null,null,null,"※",null,null,"宛名有無：",null,null,{"$f":"入力フォーム!P30","v":"※選択してください"},null,null,null,null,null,"宛名敬称：",null,null,null,{"$f":"入力フォーム!Z30","v":"※選択してください"}]
[null,null,null,null,null,null,null,null,null,"※",null,null,"宛名③：",null,null,{"$f":"入力フォーム!P31","v":0}]
[null,null,null,null,null,null,null,null,null,"※",null,null,"宛名②：",null,null,{"$f":"入力フォーム!P32","v":0}]
[null,null,null,null,null,null,null,null,null,"※",null,null,"宛名①：",null,null,{"$f":"入力フォーム!P33","v":0}]
["証明書発送先"]
[null,null,null,null,null,null,null,null,null,"会社名；",null,null,null,{"$f":"入力フォーム!N35","v":0},null,null,null,null,null,null,null,null,null,null,null,null,{"$f":"入力フォーム!AA35","v":0},null,null,null,"様宛"]
[]
[null,null,null,null,null,null,null,null,null,"住　 所；",null,null,null,"〒",{"$f":"入力フォーム!O37","v":0},{"$f":"入力フォーム!P37","v":0},{"$f":"入力フォーム!Q37","v":0},"－",{"$f":"入力フォーム!S37","v":0},{"$f":"入力フォーム!T37","v":0},{"$f":"入力フォーム!U37","v":0},{"$f":"入力フォーム!V37","v":0},null,{"$f":"入力フォーム!X37","v":0},null,null,null,"県"]
[null,null,null,null,null,null,null,null,null,null,null,null,null,{"$f":"入力フォーム!N38","v":0}]
[null,null,null,null,null,null,null,null,null,"Ｔ Ｅ Ｌ；",null,null,null,{"$f":"入力フォーム!N40","v":0},null,null,null,null,"－",{"$f":"入力フォーム!T40","v":0},null,null,null,null,"－",{"$f":"入力フォーム!Z40","v":0}]
["必要発行部数",null,null,null,null,null,null,null,null,"※　",null,null,null,null,null,null,null,{"$f":"入力フォーム!R41","v":0},null,null,null,null,null,null,null,null,"部"]
[]
["今般、上記明細の通り貴社より出荷されましたので､出荷証明書の発行をお願い致します。"]
[]
[]
["出荷証明書発行依頼書入力フォーム（追加用）"]
[]
["日新工業㈱九州営業所　行",null,null,null,null,null,null,null,null,null,null,null,null,null,null,null,null,null,null,"　※申請者名"]
[]
[null,null,"所　長",null,null,null,"担当者"]
[]
[]
[]
[]
[]
["     ※　項目が多い場合、下記に記入してください。　　（追加専用）"]
[]
["工  　 事　   名",null,null,null,null,null,null,null,null,{"$f":"入力フォーム!J58","v":0}]
[]
["※出 荷 年 月 日",null,null,null,null,null,null,null,null,"※品　　　　　　名",null,null,null,null,null,null,null,null,null,null,null,"※規　　格",null,null,null,null,null,null,"数量",null,"単位"]
[{"$f":"入力フォーム!A61","v":0},null,null,null,null,null,null,null,null,{"$f":"入力フォーム!J61","v":0},null,null,null,null,null,null,null,null,null,null,null,{"$f":"入力フォーム!V61","v":""},null,null,null,null,null,null,{"$f":"入力フォーム!AC61","v":0},null,{"$f":"入力フォーム!AE61","v":""}]
[null,null,null,null,null,null,null,null,null,{"$f":"入力フォーム!J62","v":0},null,null,null,null,null,null,null,null,null,null,null,{"$f":"入力フォーム!V62","v":""},null,null,null,null,null,null,{"$f":"入力フォーム!AC62","v":0},null,{"$f":"入力フォーム!AE62","v":""}]
[null,null,null,null,null,null,null,null,null,{"$f":"入力フォーム!J63","v":0},null,null,null,null,null,null,null,null,null,null,null,{"$f":"入力フォーム!V63","v":""},null,null,null,null,null,null,{"$f":"入力フォーム!AC63","v":0},null,{"$f":"入力フォーム!AE63","v":""}]
[null,null,null,null,null,null,null,null,null,{"$f":"入力フォーム!J64","v":0},null,null,null,null,null,null,null,null,null,null,null,{"$f":"入力フォーム!V64","v":""},null,null,null,null,null,null,{"$f":"入力フォーム!AC64","v":0},null,{"$f":"入力フォーム!AE64","v":""}]
[null,null,null,null,null,null,null,null,null,{"$f":"入力フォーム!J65","v":0},null,null,null,null,null,null,null,null,null,null,null,{"$f":"入力フォーム!V65","v":""},null,null,null,null,null,null,{"$f":"入力フォーム!AC65","v":0},null,{"$f":"入力フォーム!AE65","v":""}]
[null,null,null,null,null,null,null,null,null,{"$f":"入力フォーム!J66","v":0},null,null,null,null,null,null,null,null,null,null,null,{"$f":"入力フォーム!V66","v":""},null,null,null,null,null,null,{"$f":"入力フォーム!AC66","v":0},null,{"$f":"入力フォーム!AE66","v":""}]
[null,null,null,null,null,null,null,null,null,{"$f":"入力フォーム!J67","v":0},null,null,null,null,null,null,null,null,null,null,null,{"$f":"入力フォーム!V67","v":""},null,null,null,null,null,null,{"$f":"入力フォーム!AC67","v":0},null,{"$f":"入力フォーム!AE67","v":""}]
[null,null,null,null,null,null,null,null,null,{"$f":"入力フォーム!J68","v":0},null,null,null,null,null,null,null,null,null,null,null,{"$f":"入力フォーム!V68","v":""},null,null,null,null,null,null,{"$f":"入力フォーム!AC68","v":0},null,{"$f":"入力フォーム!AE68","v":""}]
[null,null,null,null,null,null,null,null,null,{"$f":"入力フォーム!J69","v":0},null,null,null,null,null,null,null,null,null,null,null,{"$f":"入力フォーム!V69","v":""},null,null,null,null,null,null,{"$f":"入力フォーム!AC69","v":0},null,{"$f":"入力フォーム!AE69","v":""}]
[null,null,null,null,null,null,null,null,null,{"$f":"入力フォーム!J70","v":0},null,null,null,null,null,null,null,null,null,null,null,{"$f":"入力フォーム!V70","v":""},null,null,null,null,null,null,{"$f":"入力フォーム!AC70","v":0},null,{"$f":"入力フォーム!AE70","v":""}]
[null,null,null,null,null,null,null,null,null,{"$f":"入力フォーム!J71","v":0},null,null,null,null,null,null,null,null,null,null,null,{"$f":"入力フォーム!V71","v":""},null,null,null,null,null,null,{"$f":"入力フォーム!AC71","v":0},null,{"$f":"入力フォーム!AE71","v":""}]
[null,null,null,null,null,null,null,null,null,{"$f":"入力フォーム!J72","v":0},null,null,null,null,null,null,null,null,null,null,null,{"$f":"入力フォーム!V72","v":""},null,null,null,null,null,null,{"$f":"入力フォーム!AC72","v":0},null,{"$f":"入力フォーム!AE72","v":""}]
[null,null,null,null,null,null,null,null,null,{"$f":"入力フォーム!J73","v":0},null,null,null,null,null,null,null,null,null,null,null,{"$f":"入力フォーム!V73","v":""},null,null,null,null,null,null,{"$f":"入力フォーム!AC73","v":0},null,{"$f":"入力フォーム!AE73","v":""}]
[null,null,null,null,null,null,null,null,null,{"$f":"入力フォーム!J74","v":0},null,null,null,null,null,null,null,null,null,null,null,{"$f":"入力フォーム!V74","v":""},null,null,null,null,null,null,{"$f":"入力フォーム!AC74","v":0},null,{"$f":"入力フォーム!AE74","v":""}]
[null,null,null,null,null,null,null,null,null,{"$f":"入力フォーム!J75","v":0},null,null,null,null,null,null,null,null,null,null,null,{"$f":"入力フォーム!V75","v":""},null,null,null,null,null,null,{"$f":"入力フォーム!AC75","v":0},null,{"$f":"入力フォーム!AE75","v":""}]

{"sheet":"製品データ","index":7,"n_rows":633,"n_cols":3,"rows_kept":633,"cut":false,"hidden":false,"merged":[]}
["製品名（全角）","規格（全角）","単位"]
["ＡＱシーラー　Ａ材","１７ｋｇ／缶","缶"]
["ＡＱシーラー　Ｂ材","１８ｋｇ／缶","袋"]
["ＢＫボードＥ　２５㎜","９１０㎜×９１０㎜","枚"]
["ＢＫボードＥ　３０㎜","９１０㎜×９１０㎜","枚"]
["ＢＫボードＥ　３５㎜","９１０㎜×９１０㎜","枚"]
["ＢＫボードＥ　４０㎜","９１０㎜×９１０㎜","枚"]
["ＢＫボードＥ　５０㎜","９１０㎜×９１０㎜","枚"]
["ＢＫボードＥ　６０㎜","９１０㎜×９１０㎜","枚"]
["ＣＡキャップ","１×８ｍ","本"]
["ＣＡシート１５","１×１６ｍ","本"]
["ＣＡシートＦ","１×１６ｍ","本"]
["ＣＡシートＳ","１×１６ｍ","本"]
["ＣＫ－２５","３ｍ×１０本","ケース"]
["ＣＫ－３０","３ｍ×１０本","ケース"]
["ＣＫ－３５","３ｍ×１０本","ケース"]
["ＣＫ－４０","３ｍ×１０本","ケース"]
["ＣＫ－５０","３ｍ×１０本","ケース"]
["ＣＭ－２５Ａ","２８㎜＊６５㎜＊３ｍ","本"]
["ＣＭ－２５Ｂ","２７㎜＊１００㎜＊２ｍ×１０本","ケース"]
["ＣＭ－３０Ａ","３３㎜＊６５㎜＊３ｍ","本"]
["ＣＭ－３０Ｂ","３２㎜＊１００㎜＊２ｍ×１０本","ケース"]
["ＣＭ－３５Ｂ","３２㎜＊１００㎜＊２ｍ×１０本","ケース"]
["ＣＭ－４０Ａ","４３㎜＊６５㎜＊３ｍ","本"]
["ＣＭ－４０Ｂ","４２㎜＊１００㎜＊２ｍ×１０本","ケース"]
["ＣＭ－５０Ａ","５３㎜＊６５㎜＊３ｍ","本"]
["ＣＭ－５０Ｂ","４２㎜＊１００㎜＊２ｍ×１０本","ケース"]
["ＣＳコンパウンド","１０ｋｇ／袋","袋"]
["ＣＳコンパウンド","６ｋｇ","袋"]
["ＣキャップＫ","１×８ｍ","本"]
["Ｃテープ","０．３×１６ｍ","本"]
["ＣルーフＦ","１×１６　ｍ","本"]
["ＣルーフＳ","１×１６ｍ","本"]
["ＥＥテープ","０．２８×１２ｍ","巻"]
["ＥＥルーフＢＦ","１×１２ｍ","本"]
["ＥＥルーフＢＦテープ","０．２×１２ｍ　２巻","ケース"]
["ＥＥルーフＢＳ","１×１２ｍ","本"]
["ＥＬ－２００１","","セット"]
["ＦＧディスク４","φ１００㎜、釘穴φ４㎜","袋"]
["ＦＧディスク７","φ１００㎜、釘穴φ７㎜","袋"]
["ＦＰクール　ホワイト","１８ｋｇ／缶","缶"]
["ＦＰクール　ライトグリーン","１８ｋｇ／缶","缶"]
["ＦＰクール　ライトグレー","１８ｋｇ／缶","缶"]
["Ｉテープ　","０．１×１６ｍ　３巻","ケース"]
["ＬＰフォーム　１０㎜","１ｍ×２５ｍ","本"]
["ＬＰフォーム　１５㎜","１０００×２０００㎜","枚"]
["ＬＰフォーム　２０㎜","１０００×２０００㎜","枚"]
["ＬＰフォーム　２５㎜","１０００×２０００㎜","枚"]
["ＬＰフォーム　３０㎜","１０００×２０００㎜","枚"]
["ＬＰフォーム　３５㎜","１０００×２０００㎜","枚"]
["ＬＰフォーム　４０㎜","１０００×２０００㎜","枚"]
["ＭＡ－５０Ｂ　シルバー","５０×１３５×２０００ｍｍ","本"]
["ＭＡ－５０Ｂ　ブラック","５０×１３５×２０００ｍｍ","本"]
["ＭＡ－５０Ｂ　ブロンズ","５０×１３５×２０００ｍｍ","本"]
["ＭＡ－５０Ｂ　出隅コーナー　シルバー","３００×３００ｍｍ","個"]
["ＭＡ－５０Ｂ　出隅コーナー　ブラック","３００×３００ｍｍ","個"]
["ＭＡ－５０Ｂ　出隅コーナー　ブロンズ","３００×３００ｍｍ","個"]
["ＭＡ－５０Ｂ　内ジョイント　シルバー","","個"]
["ＭＡ－５０Ｂ　内ジョイント　ブラック","","個"]
["ＭＡ－５０Ｂ　内ジョイント　ブロンズ","","個"]
["ＭＡ－５０Ｂ　入隅コーナー　シルバー","３００×３００ｍｍ","個"]
["ＭＡ－５０Ｂ　入隅コーナー　ブラック","３００×３００ｍｍ","個"]
["ＭＡ－５０Ｂ　入隅コーナー　ブロンズ","３００×３００ｍｍ","個"]
["ＭＦ　ＢＰ－Ａ１","φ６０㎜、１００枚入","ケース"]
["ＭＦ　ＢＰ－Ｈ１Ｎ","φ６０㎜、１００枚入","ケース"]
["ＭＦ　ＢＳ－Ｈ１　（１００枚）","φ６０㎜、１００枚入","ケース"]
["ＭＦ　ＵＤ－１ＰＶ","φ８７㎜、１００枚入","ケース"]
["ＭＦ　ＵＤ－Ａ１ＰＶ","φ８７㎜、１００枚入","ケース"]
["ＭＦ　ＵＤ断熱セット","１００組入り","セット"]
["ＭＦＣＲシート２０　２０－３１０","１．２×１０ｍ","本"]
["ＭＦＣＲシート２０　２０－３２０","１．２×１０ｍ","本"]
["ＭＦＣＲシート２０　２０－３３０","１．２×１０ｍ","本"]
["ＭＦＣＲシート２０　２０－３４０","１．２×１０ｍ","本"]
["ＭＦＣＲシート２０　２０－３６０","１．２×１０ｍ","本"]
["ＭＦＰ－７","３５０＊３５０㎜、５枚入","ケース"]
["ＭＦＰ－Ｈ１５","１５×４８×２０００㎜×１０本","ケース"]
["ＭＦＰ－Ｈ１８　（１０本）","２５×１００．５×２０００㎜×１０本","ケース"]
["ＭＦＰ－Ｈ２０","１５×７５×２０００㎜×１０本","ケース"]
["ＭＦＰ－Ｈ２４","５０×７５×２０００㎜×２本　","ケース"]
["ＭＦＰ－Ｈ２４ＪＮ　ジョイント板","１０個入","ケース"]
["ＭＦＰ－Ｈ２５","１５×５０×２０００㎜×１０本","ケース"]
["ＭＦＰ－Ｈ２６","Ｗ＝８０×２０００ｍｍ×１０本","ケース"]
["ＭＦＰ－Ｈ２Ｎ","５４×２０００㎜×１０本","ケース"]
["ＭＦＰ－Ｈ３","５０×５０×２０００㎜×１０本　","ケース"]
["ＭＦＰ－Ｈ３Ｎ","１８．２×５２．７×２０００㎜×１０本","ケース"]
["ＭＦＰ－Ｈ４","５０×１０×２０００㎜×１０本","ケース"]
["ＭＦＰ－Ｈ５","５７×７０ｍｍ×２０００㎜×１０本","ケース"]
["ＭＦＰ－Ｈ５　ジョイント板","１０個入","ケース"]
["ＭＦＰ－Ｈ６　","５０×５０×２０００㎜×１０本","ケース"]
["ＭＦＰ－Ｈ８　","３５×１００×２０００㎜×５本","ケース"]
["ＭＦＰ－Ｈ８　ジョイント板","１０個入","ケース"]
["ＭＦＰ－Ｈ９","６５×１５０×２０００㎜×５本","ケース"]
["ＭＦＰ－Ｈ９　ジョイント板","１０個入","ケース"]
["ＭＦＰ－丸環用塩ビ鋼板","１１４×１６９㎜×４枚","枚"]
["ＭＦクロス","１．２×１００ｍ","本"]
["ＭＦコーナーパッチ遮熱小・出隅　３１－５１","５０枚入","ケース"]
["ＭＦコーナーパッチ遮熱小・出隅　３４－５４","５０枚入","ケース"]
["ＭＦコーナーパッチ遮熱小・入隅　３１－５１","５０枚入","ケース"]
["ＭＦコーナーパッチ遮熱小・入隅　３４－５４","５０枚入","ケース"]
["ＭＦコーナーパッチ遮熱大・出隅　３１－５１","３０枚入","ケース"]
["ＭＦコーナーパッチ遮熱大・出隅　３４－５４","３０枚入","ケース"]
["ＭＦコーナーパッチ遮熱大・入隅　３１－５１","３０枚入","ケース"]
["ＭＦコーナーパッチ遮熱大・入隅　３４－５４","３０枚入","ケース"]
["ＭＦコーナーパッチ小・出隅　３１－５１","５０枚入","ケース"]
["ＭＦコーナーパッチ小・出隅　３２－５２","５０枚入","ケース"]
["ＭＦコーナーパッチ小・出隅　３３－５３","５０枚入","ケース"]
["ＭＦコーナーパッチ小・出隅　３４－５４","５０枚入","ケース"]
["ＭＦコーナーパッチ小・出隅　３５","５０枚入","ケース"]
["ＭＦコーナーパッチ小・出隅　３６－５６","５０枚入","ケース"]
["ＭＦコーナーパッチ小・入隅　３１－５１","５０枚入","ケース"]
["ＭＦコーナーパッチ小・入隅　３２－５２","５０枚入","ケース"]
["ＭＦコーナーパッチ小・入隅　３３－５３","５０枚入","ケース"]
["ＭＦコーナーパッチ小・入隅　３４－５４","５０枚入","ケース"]
["ＭＦコーナーパッチ小・入隅　３５","５０枚入","ケース"]
["ＭＦコーナーパッチ小・入隅　３６－５６","５０枚入","ケース"]
["ＭＦコーナーパッチ大・出隅　３１－５１","３０枚入","ケース"]
["ＭＦコーナーパッチ大・出隅　３２－５２","３０枚入","ケース"]
["ＭＦコーナーパッチ大・出隅　３３－５３","３０枚入","ケース"]
["ＭＦコーナーパッチ大・出隅　３４－５４","３０枚入","ケース"]
["ＭＦコーナーパッチ大・出隅　３５","３０枚入","ケース"]
["ＭＦコーナーパッチ大・出隅　３６－５６","３０枚入","ケース"]
["ＭＦコーナーパッチ大・入隅　３１－５１","３０枚入","ケース"]
["ＭＦコーナーパッチ大・入隅　３２－５２","３０枚入","ケース"]
["ＭＦコーナーパッチ大・入隅　３３－５３","３０枚入","ケース"]
["ＭＦコーナーパッチ大・入隅　３４－５４","３０枚入","ケース"]
["ＭＦコーナーパッチ大・入隅　３５","３０枚入","ケース"]
["ＭＦコーナーパッチ大・入隅　３６－５６","３０枚入","ケース"]
["ＭＦシート２０　２０－３１","１．２×１０ｍ","巻"]
["ＭＦシート２０　２０－３２","１．２×１０ｍ","巻"]
["ＭＦシート２０　２０－３３","１．２×１０ｍ","巻"]
["ＭＦシート２０　２０－３４","１．２×１０ｍ","巻"]
["ＭＦシート２０　２０－３６","１．２×１０ｍ","巻"]
["ＭＦシート遮熱１５　　１５－５４","１．２３×２０ｍ","巻"]
["ＭＦシート遮熱１５　　１５－５４　１０ｍ","１．２３×１０ｍ","巻"]
["ＭＦシート遮熱１５　１５－５１","１．２３×２０ｍ","巻"]
["ＭＦシート遮熱１５Ｖ　　１５－５４","１．８３×１０ｍ","巻"]
["ＭＦシート遮熱１５Ｖ　１５－５１","１．８３×１０ｍ","巻"]
["ＭＦシート遮熱２０　２０－３１","１．２×１０ｍ","巻"]
["ＭＦシート遮熱２０　２０－３４","１．２×１０ｍ","巻"]
["ＭＦシーリング　３１－５１","３ｋｇ／缶","缶"]
["ＭＦシーリング　３２－５２","３ｋｇ／缶","缶"]
["ＭＦシーリング　３３－５３","３ｋｇ／缶","缶"]
["ＭＦシーリング　３４－５４","３ｋｇ／缶","缶"]
["ＭＦシーリング　３５","３ｋｇ／缶","缶"]
["ＭＦシーリング　３６－５６","３ｋｇ／缶","缶"]
["ＭＦシーリング遮熱　３１－５１","３ｋｇ／缶","缶"]
["ＭＦシーリング遮熱　３４－５４","３ｋｇ／缶","缶"]
["ＭＦドレン横１００","２個入","ケース"]
["ＭＦドレン横５０","２個入","ケース"]
["ＭＦドレン横７５","２個入","ケース"]
["ＭＦドレン縦１００","２個入","ケース"]
["ＭＦドレン縦５０","２個入","ケース"]
["ＭＦドレン縦７５","２個入","ケース"]
["ＭＦプラグ　ＨＵＤ－１０５","１００本入","ケース"]
["ＭＦプラグ　ＨＵＤ－１２０","１００本入","ケース"]
["ＭＦプラグ　ＨＵＤ－３０","５００本入","ケース"]
["ＭＦプラグ　ＨＵＤ－３５","５００本入","ケース"]
["ＭＦプラグ　ＨＵＤ－５０","５００本入","ケース"]
["ＭＦプラグ　ＨＵＤ－５０","５００本入","ケース"]
["ＭＦプラグ　ＨＵＤ－６０","５００本入","ケース"]
["ＭＦプラグ　ＨＵＤ－７５","１００本入","ケース"]
["ＭＦプラグ　ＨＵＤ－９０","１００本入","ケース"]
["ＭＦベントＳＶＳ－１８","Ｈ１９０．５","ケース"]
["ＭＦボンドＥＰ","主剤：９ｋｇ、硬化剤：９㎏","セット"]
["ＭＦボンドＮ","１５ｋｇ／缶","缶"]
["ＭＦ溶着剤","３ｋｇ／缶","缶"]
["ＭＰルーフ","１×１５ｍ","本"]
["ＭＴ－５０ＡＢ　シルバー","２ｍ","本"]
["ＭＴ－５０ＡＢ　ブラック","２ｍ","本"]
["ＭＴ－５０ＡＢ　ブロンズ","２ｍ","本"]
["ＭＴ－５０ＡＢ　外ジョイント　シルバー","","個"]
["ＭＴ－５０ＡＢ　外ジョイント　ブラック","","個"]
["ＭＴ－５０ＡＢ　外ジョイント　ブロンズ","","個"]
["ＭＴ－５０ＡＢ　出隅コーナー　シルバー","","個"]
["ＭＴ－５０ＡＢ　出隅コーナー　ブラック","","個"]
["ＭＴ－５０ＡＢ　出隅コーナー　ブロンズ","","個"]
["ＭＴ－５０ＡＢ　入隅コーナー　シルバー","","個"]
["ＭＴ－５０ＡＢ　入隅コーナー　ブラック","","個"]
["ＭＴ－５０ＡＢ　入隅コーナー　ブロンス","","個"]
["ＭＴコート","主剤：６ｋｇ　硬剤：１２ｋｇ","セット"]
["ＭＴコートＶ","主剤：６ｋｇ　硬剤：１２ｋｇ","セット"]
["ＭＴトップコート　グリーン","主剤：７ｋｇ　硬剤：７ｋｇ","セット"]
["ＭＴトップコート　グレー","主剤：７ｋｇ　硬剤：７ｋｇ","セット"]
["ＭＴトップコート　ライトグレー","主剤：７ｋｇ　硬剤：７ｋｇ","セット"]
["ＭＸテープ","０．１×５０ｍ","巻"]
["ＮＣＢ―５０","２ｍ×１０本","ケース"]
["ＮＣＢ―７５","２ｍ×１０本","ケース"]
["ＮＣＤ－２５Ｂ","３ｍ×５本","ケース"]
["ＮＣＤ－２５Ｅ","３ｍ×５本","ケース"]
["ＮＣＤ－２５Ｓ","３ｍ×５本","ケース"]
["ＮＣＤ－３０Ｂ","３ｍ×５本","ケース"]
["ＮＣＤ－３０Ｅ","３ｍ×５本","ケース"]
["ＮＣＤ－３０Ｓ","３ｍ×５本","ケース"]
["ＮＣＤ－３５Ｂ","３ｍ×５本","ケース"]
["ＮＣＤ－３５Ｅ","３ｍ×５本","ケース"]
["ＮＣＤ－３５Ｓ","３ｍ×５本","ケース"]
["ＮＣＤ－４０Ｂ","３ｍ×５本","ケース"]
["ＮＣＤ－４０Ｅ","３ｍ×５本","ケース"]
["ＮＣＤ－４０Ｓ","３ｍ×５本","ケース"]
["ＮＣＤ－５０Ｂ","３ｍ×５本","ケース"]
["ＮＣＤ－５０Ｅ","３ｍ×５本","ケース"]
["ＮＣＤ－５０Ｓ","３ｍ×５本","ケース"]
["ＮＣＥ―５０","２ｍ×１０本","ケース"]
["ＮＣＥ―７５","２ｍ×１０本","ケース"]
["ＮＣＳ―５０","２ｍ×１０本","ケース"]
["ＮＣＳ―７５","２ｍ×１０本","ケース"]
["ＮＫＢ―７０","２ｍ×１０本","ケース"]
["ＮＫＢ―９５","２ｍ×１０本","ケース"]
["ＮＫＤ－２５Ｂ","３ｍ×５本","ケース"]
["ＮＫＤ－２５Ｅ","３ｍ×５本","ケース"]
["ＮＫＤ－２５Ｓ","３ｍ×５本","ケース"]
["ＮＫＤ－３０Ｂ","３ｍ×５本","ケース"]
["ＮＫＤ－３０Ｅ","３ｍ×５本","ケース"]
["ＮＫＤ－３０Ｓ","３ｍ×５本","ケース"]
["ＮＫＤ－３５Ｂ","３ｍ×５本","ケース"]
["ＮＫＤ－３５Ｅ","３ｍ×５本","ケース"]
["ＮＫＤ－３５Ｓ","３ｍ×５本","ケース"]
["ＮＫＤ－４０Ｂ","３ｍ×５本","ケース"]
["ＮＫＤ－４０Ｅ","３ｍ×５本","ケース"]
["ＮＫＤ－４０Ｓ","３ｍ×５本","ケース"]
["ＮＫＤ－５０Ｂ","３ｍ×５本","ケース"]
["ＮＫＤ－５０Ｅ","３ｍ×５本","ケース"]
["ＮＫＤ－５０Ｓ","３ｍ×５本","ケース"]
["ＮＫＥ―７０","２ｍ×１０本","ケース"]
["ＮＫＥ―９５","２ｍ×１０本","ケース"]
["ＮＫＳ―７０","２ｍ×１０本","ケース"]
["ＮＫＳ―９５","２ｍ×１０本","ケース"]
["ＮＰカラー　　シルバー","１５ｋｇ／缶","缶"]
["ＮＰカラー　グリーン","１５ｋｇ／缶","缶"]
["ＮＰカラー　グレー","１５ｋｇ／缶","缶"]
["ＮＰカラーＡＱ　　シルバー","１５ｋｇ／缶","缶"]
["ＮＰカラーＡＱ　グリーン","１５ｋｇ／缶","缶"]
["ＮＰカラーＡＱ　グレー","１５ｋｇ／缶","缶"]
["ＮＰシート２号Ｓ　１．０㎜","１．２×２０ｍ","本"]
["ＮＰシート２号Ｓ　１．２㎜","１．２×２０ｍ","本"]
["ＮＰシート２号Ｓ　１．５㎜","１．２×１０ｍ","本"]
["ＮＰシート２号Ｓ　２．０㎜","１．２×１０ｍ","本"]
["ＮＰシート２号Ｓ　のり付き　１．２㎜","１．２×１５ｍ","本"]
["ＮＰシート２号Ｓ　のり付き　１．５㎜","１．２×１０ｍ","本"]
["ＮＰシート２号Ｓ　のり付き　２．０㎜","１．２×１０ｍ","本"]
["ＮＰテープ　１００㎜","１００㎜×２０ｍ、６巻入","箱"]
["ＮＰテープ　１２０㎜","１２０㎜×２０ｍ、５巻入","箱"]
["ＮＰテープ　１５０㎜","１５０㎜×２０ｍ、４巻入","箱"]
["ＮＰテープ　２００㎜","２００㎜×２０ｍ、３巻入","箱"]
["ＮＰドレン　横　７０φ","４００㎜×４００㎜","個"]
["ＮＰドレン　横　９０φ","４００㎜×４００㎜","個"]
["ＮＰドレン　縦　７０φ","４００㎜×４００㎜","個"]
["ＮＰドレン　縦　９０φ","４００㎜×４００㎜","個"]
["ＮＰボンドＳ","１５ｋｇ／缶","缶"]
["ＮＰラップシール","３３０ｍｌ×２０本","ケース"]
["ＮＳソルベント","１８Ｌ／缶","缶"]
["ＮＳタックコート","","缶"]
["ＮＳパールＫＢ","","缶"]
["ＮＳパールＫＧ","","缶"]
["ＮＳパールＫＰ","","缶"]
["ＮサンドＡＦ","１×８ｍ","本"]
["ＮサンドＵＦ","１×８ｍ","本"]
["Ｎテープ　　１００㎜","１００㎜×１０ｍ、４個入","ケース"]
["Ｎテープ　　２００㎜","２００㎜×１０ｍ、２個入","ケース"]
["Ｎテープ　　３００㎜","３００㎜×１０ｍ","巻"]
["Ｎテープ　　３０㎜","３０㎜×４０ｍ、５個入","ケース"]
["ＮルーフＦ","１×１２ｍ","本"]
["ＮルーフＳ","１×１２ｍ","本"]
["ＰＦスタンド　ＤＰＨ０","Ｈ１７㎜","個"]
["ＰＦスタンド　ＤＰＨ０２","Ｈ２５～３６㎜","個"]
["ＰＦスタンド　ＤＰＨ０２－ＰＨ５","Ｈ３３㎜－４４㎜","個"]
["ＰＦスタンド　ＤＰＨ１","Ｈ２８㎜","個"]
["ＰＦスタンド　ＤＰＨ２－ＰＨ５","Ｈ４４～５７㎜","個"]
["ＰＦスタンド　ＤＰＨ３－ＰＨ５","Ｈ５５～７９㎜","個"]
["ＰＦスタンド　ＤＰＨ４","Ｈ７７～１０８㎜","個"]
["ＰＦスタンド　ＤＰＨ５","Ｈ１００～１７０㎜","個"]
["ＰＦスタンド　ＤＰＨ５用目地１０ミリ","１０ｍｍ","個"]
["ＰＦスタンド　ＤＰＨ５用目地２ミリ","２ｍｍ","個"]
["ＰＦスタンド　ＤＰＨ５用目地４ミリ","４．５ｍｍ","個"]
["ＰＦスタンド　ＤＰＨ５用目地６ミリ","６ｍｍ","個"]
["ＰＦスタンド　ＰＨ－５","０～５％調整","個"]
["ＰＦスタンド　カップリング　Ｃ２","約７５～１１０㎜","個"]
["ＰＦスタンド　カップリング　Ｃ５","約１８５～２２５㎜","個"]
["ＰＦストーンパネル　御影","６００×６００ｍｍ","枚"]
["ＰＦストーンパネル　錆御影","６００×６００ｍｍ","枚"]
["ＰＦストーンパネル　蛇紋","６００×６００ｍｍ","枚"]
["ＰＦストーンパネル大判　御影","６００×１０００ｍｍ","枚"]
["ＰＦストーンパネル大判　錆御影","６００×１０００ｍｍ","枚"]
["ＰＦストーンパネル大判　蛇紋","６００×１０００ｍｍ","枚"]
["ＰＦパネル","６００×６００ｍｍ","枚"]
["ＰＦパネル　大判","６００×１０００ｍｍ","枚"]
["ＰＦロックパネル　稲田","６００×６００ｍｍ","枚"]
["ＰＦロックパネル　金華","６００×６００ｍｍ","枚"]
["ＰＦロックパネル大判　稲田","６００×１０００ｍｍ","枚"]
["ＰＦロックパネル大判　金華","６００×１０００ｍｍ","枚"]
["ＰＴクロス","１ｍ×２００ｍ","本"]
["Ｐテープ","４５㎜×２５ｍ　４巻","ケース"]
["ＱＮパネル","９１５×１．３６５ｍｍ","枚"]
["ＲＦコート","２０ｋｇ／缶","缶"]
["ＲＦコートＶ","１０ｋｇ／缶","缶"]
["ＲＦメカアンダー","１×８ｍ","本"]
["ＳＤディスクⅡ","φ１００㎜、釘穴φ７㎜","袋"]
["ＳＤビス６０","１５００本入","ケース"]
["ＳＤビス７５","１０００本入","ケース"]
["ＳＤビス９０","５００本入","ケース"]
["ＳＫルーフＢＦ","１×１２ｍ","本"]
["ＳＫルーフＢＦテープ","０．２×１２ｍ　２巻","ケース"]
["ＳＫルーフＢＳ","１×１２ｍ","本"]
["ＳＰウェルド","１×１６ｍ","本"]
["ＳＰキャップ","１×８ｍ","本"]
["ＳＰサンド","１×８ｍ","本"]
["ＳＰストロング","１×１６ｍ","本"]
["ＳＰテープ３００","０．３×１６ｍ","巻"]
["ＳＰビニロン７０Ｓ","１×１６ｍ","本"]
["ＳＰホール","１×８ｍ","本"]
["ＳＰルーフＭ","１×１６ｍ","本"]
["ＴキャップＡ","１×８ｍ　","本"]
["ＴキャップＦ","１×８ｍ","本"]
["ＴルーフＦ","１×１２ｍ","本"]
["ＴルーフＳ","１×１２ｍ　","本"]
["ＵＳトップクールＥＸ　グレー","主剤：６ｋｇ　硬化剤：９ｋｇ","セット"]
["ＵＳトップクールＥＸ　ホワイト","主剤：６ｋｇ　硬化剤：９ｋｇ","セット"]
["ＵＳトップクールＥＸ　ライトグリーン","主剤：６ｋｇ　硬化剤：９ｋｇ","セット"]
["ＵＳトップクールＳｉ　グレー","主剤：６ｋｇ　硬化剤：９ｋｇ","セット"]
["ＵＳトップクールＳｉ　ホワイト","主剤：６ｋｇ　硬化剤：９ｋｇ","セット"]
["ＵＳトップクールＳｉ　ライトグリーン","主剤：６ｋｇ　硬化剤：９ｋｇ","セット"]
["ＵＳトップクールグレー","主剤：７ｋｇ　硬化剤：７ｋｇ","セット"]
["ＵＳトップクールホワイト","主剤：７ｋｇ　硬化剤：７ｋｇ","セット"]
["ＵＳトップコートＡＬ","主剤：６ｋｇ　硬化剤：６ｋｇ","セット"]
["ＵＳトップコートＥＸ　グリーン","主剤：７ｋｇ　硬化剤：７ｋｇ","セット"]
["ＵＳトップコートＥＸ　グレー","主剤：７ｋｇ　硬化剤：７ｋｇ","セット"]
["ＵＳトップコートＥＸ　ライトグレー","主剤：７ｋｇ　硬化剤：７ｋｇ","セット"]
["ＵＳトップコートＥＸ　特色","主剤：７ｋｇ　硬化剤：７ｋｇ","セット"]
["ＵＳトップコートＱ　グリーン","主剤：７ｋｇ　硬化剤：７ｋｇ","セット"]
["ＵＳトップコートＱ　グレー","主剤：７ｋｇ　硬化剤：７ｋｇ","セット"]
["ＵＳトップコートＱ　ライトグレー","主剤：７ｋｇ　硬化剤：７ｋｇ","セット"]
["ＵＳトップコートＱ　特色","主剤：７ｋｇ　硬化剤：７ｋｇ","セット"]
["ＵＳトップコートＳｉ　グリーン","主剤：６ｋｇ　硬化剤：９ｋｇ","セット"]
["ＵＳトップコートＳｉ　グレー","主剤：６ｋｇ　硬化剤：９ｋｇ","セット"]
["ＵＳトップコートＳｉ　ライトグレー","主剤：６ｋｇ　硬化剤：９ｋｇ","セット"]
["ＵＳトップコートＳｉ　特色","主剤：６ｋｇ　硬化剤：９ｋｇ","セット"]
["ＵＳプライマーＣ１","１７ｋｇ／缶","缶"]
["ＵＳプライマーＣ２","１６ｋｇ／缶","缶"]
["ＵＳプライマーＣ３","１７ｋｇ／缶","缶"]
["ＵＳプライマーＭ２　０．５ｋｇ","０．５ｋｇ／缶","缶"]
["ＵＳプライマーＭ２　１７ｋｇ","１７ｋｇ／缶","缶"]
["ＵＳプライマーＭ３","主剤：１５ｋｇ　硬化剤：１ｋｇ","セット"]
["ＵＳプライマーＭ４Ｅ","Ａ液４ｋｇ　Ｂ液４ｋｇ　粉体８ｋｇ","セット"]
["ＵＳプライマーＭ５","主剤：４ｋｇ　硬化剤：４ｋｇ","セット"]
["ＵＳプライマーＭ４","主剤：４ｋｇ　硬化剤：４ｋｇ","セット"]
["ＵＳシートＡ","１．２ｍ×５０ｍ","巻"]
["ＵＳシートＮ","１．０ｍ×５０ｍ","巻"]
["ＵＳテープ","５０㎜×５０ｍ","巻"]
["ＵＳボンド","主剤：２ｋｇ　硬化剤：８ｋｇ","セット"]
["ＵＳボンドＡ　１０㎏","１０ｋｇ／缶","缶"]
["ＵＳボンドＡ　２０㎏","２０ｋｇ／缶","缶"]
["ＵＳボンドＡ　カートリッジ","３３０ｍｌ×２４本","ケース"]
["ＵプライマーＳ","１５ｋｇ／缶","缶"]
["アスコート","１０ｋｇ／缶","缶"]
["アスファルトプライマー","１５ｋｇ／缶","缶"]
["アスファルトルーフィング１５００","１×１６ｍ","本"]
["アスファルトルーフコーチング","１８ｋｇ／缶","缶"]
["アンカーボルトＬ","軸６φ　８０㎜","箱"]
["アンカーボルトＭ","軸６φ　６０㎜","箱"]
["アンカーボルトＳ","軸６φ　４０㎜","袋"]
["アンダーキャップ","","個"]
["エアピンＡＸ－８３０","軸３．６φ　３０㎜","箱"]
["エアピンＡＸ－８３５","軸３．６φ　３５㎜","箱"]
["エアピンＡＸ－８４０","軸３．６φ　４０㎜","箱"]
["エアピンＡＸ－８４５","軸３．６φ　４５㎜","箱"]
["エアピンＡＸ－８５０","軸３．６φ　５０㎜","箱"]
["エアピンＡＸ－８５５","軸３．６φ　５５㎜","箱"]
["エアピンＡＸ－８６０","軸３．６φ　６０㎜","箱"]
["エスカント","７０㎜×９１０㎜×５０本","ケース"]
["エスシール　５＊２０　１０Ｍ","２０㎜×１０ｍ　１０本入","ケース"]
["エスシール　５＊３０　１０Ｍ","３０㎜×１０ｍ　１０本入","ケース"]
["エスシール　５＊４０　１０Ｍ","４００㎜×１０ｍ　１０本入","ケース"]
["エスシール　５＊５０　１０Ｍ","５００㎜×１０ｍ　１０本入","ケース"]
["エスホール","１×８ｍ","本"]
["エムイーシート","１．０ｍ×１５ｍ","本"]
["オーブキャップ","１×８ｍ","本"]
["オーブキャップＶ","１×８ｍ","本"]
["オーブルーフＦ","１×８ｍ　","本"]
["オーブルーフＰ","１×１２ｍ","本"]
["オーブルーフＰＶ","１×８ｍ","本"]
["オーブルーフＳ","１×８ｍ","本"]
["カスタムＢＦ　１２ｍ","１×１２ｍ","本"]
["カスタムＢＳ１５","１×１６ｍ","本"]
["カスタムＭ","１×１６ｍ","本"]
["カスタムＰＡ","１×１０ｍ","本"]
["カスタムＰＷ","１×１０ｍ","本"]
["カスタムＰＷ　２５ｃｍ","２５ｃｍ×１０ｍ","巻"]
["カスタムＰＷ　５０ｃｍ","５０ｃｍ×１０ｍ","巻"]
["カスタムＳＴ","１×８ｍ","本"]
["カスタムコーチングＳ　１１㎏","１１ｋｇ／缶","缶"]
["カスタムコーチングＳ　２２㎏","２２ｋｇ／缶","缶"]
["カスタムコーチングＳ　カートリッジ","３３０ｍｌ×２４本","ケース"]
["カスタムサンドＡＦ","１×８ｍ","本"]
["カスタムサンドＦ","１×８ｍ","本"]
["カスタムサンドＵＦ","１×８ｍ","本"]
["カスタムシート２０","１×１５ｍ","本"]
["カスタムシート２０Ｐ","１×１５ｍ","本"]
["カスタムシート２０粘着","１×１５ｍ","本"]
["カスタムプライマー","１６ｋｇ／缶","缶"]
["カスタムプライマーＥ","１６ｋｇ／缶","缶"]
["カスタムボード","１×１ｍ","枚"]
["カスタムメルト","０．１×１０ｍ×２巻","ケース"]
["カナートウォール用接着剤","１０ｋｇ／缶","缶"]
["カナートシート用テープ","５０㎜×５０ｍ","巻"]
["カナートシャット","１×１６ｍ","本"]
["カナートドレンカバー　Ｔ２　横","Ｈ２００　４００×３００㎜","個"]
["カナートドレンカバー　Ｔ２　縦","Ｈ２００　４００㎜角","個"]
["カナートフィルター　１×５０ｍ","１×５０ｍ","巻"]
["カナートフィルター　２×１００ｍ","２×１００ｍ","巻"]
["カナートフィルター専用釘","Ｌ２５㎜","個"]
["カナートブチルテープ","０．１×１５ｍ","巻"]
["カナートマット　２５","１×１ｍ","枚"]
["カラートップタイト　チョコ","５０ｃｍ×１ｍ","枚"]
["カラートップタイト　赤","５０ｃｍ×１ｍ","枚"]
["カラートップタイト　緑","５０ｃｍ×１ｍ","枚"]
["クールエコＥＣ","１×８ｍ　","本"]
["クールエコＥＦ","１×１２ｍ","本"]
["クールエコＥＳ","１×１２ｍ","本"]
["クリンアス","２０ｋｇ／缶","缶"]
["クリンアスＮＥＯ","１０ｋｇ／缶","缶"]
["クリンアスＶ","１０ｋｇ／缶","缶"]
["クロスＧ","１．０４ｍ×１００ｍ","巻"]
["クロスＫ","１．０２×５０ｍ","巻"]
["ゴムレベラー　　１㎜","ｔ１ｍｍ","個"]
["ゴムレベラー　　２㎜","ｔ２ｍｍ","個"]
["コンクリート釘","１９㎜","個"]
["サーモロックカラーＭＢ　アッシュグリーン","１６．３ｋｇ／缶","缶"]
["サーモロックカラーＭＢ　グリーン","１６．３ｋｇ／缶","缶"]
["サーモロックカラーＭＢ　グレー","１６．３ｋｇ／缶","缶"]
["サーモロックカラーＭＢ　トープ","１６．３ｋｇ／缶","缶"]
["サーモロックカラーＭＢ　ブラウン","１６．３ｋｇ／缶","缶"]
["サーモロックカラーＭＢ　レンガ","１６．３ｋｇ／缶","缶"]
["サビナイ１号","２５㎜","個"]
["サビナイ２号","３０㎜","個"]
["サビナイ３号","４０㎜","個"]
["サビナイ４号","５０㎜","個"]
["シェーン１５","１×１６ｍ","本"]
["シェーン２０","１×８ｍ","本"]
["シェーン３０","１×８ｍ","本"]
["シェーンウエルドＭ","１×１６ｍ","本"]
["シェーンカント　３０ｍｍ用","Ｗ＝９１０㎜　４０本入","ケース"]
["シェーンカント　３５ｍｍ用","Ｗ＝９１０㎜　３０本入","ケース"]
["シェーンカント　４０ｍｍ用","Ｗ＝９１０㎜　２４本入","ケース"]
["シェーンカント　５０ｍｍ用","Ｗ＝９１０㎜　１６本入","ケース"]
["シェーンカント　６０ｍｍ用","Ｗ＝９１０㎜　１０本入","ケース"]
["シェーンサンド３０Ｆ","１×８ｍ","本"]
["シェーンボード　２５㎜","６０５㎜×９１０㎜","枚"]
["シェーンボード　３０㎜","６０５㎜×９１０㎜","枚"]
["シェーンボード　３５㎜","６０５㎜×９１０㎜","枚"]
["シェーンボード　４０㎜","６０５㎜×９１０㎜","枚"]
["シェーンボード　５０㎜","６０５㎜×９１０㎜","枚"]
["シェーンボード　６０㎜","６０５㎜×９１０㎜","枚"]
["シェーンボードＷ　２５ｍｍ","９００×１２００㎜","枚"]
["シェーンボードＷ　３０ｍｍ","９００×１２００㎜","枚"]
["シェーンボードＷ　３５ｍｍ","９００×１２００㎜","枚"]
["シェーンボードＷ　４０ｍｍ","９００×１２００㎜","枚"]
["シェーンボードＷ　５０ｍｍ","９００×１２００㎜","枚"]
["シグマートＥ　１０ｋｇ","１０ｋｇ／袋","袋"]
["シグマートＥＬ　１０ｋｇ","１０ｋｇ／袋","袋"]
["シグマートＳ","２５ｋｇ／袋","袋"]
["ジョイントテープ　４巻入","５０㎜×５０ｍ×４巻","ケース"]
["シリコン","３３３ｃｃカートリッジ","本"]
["シングルセメント　","１８㎏／缶","缶"]
["シングル谷用　ＳＮ－２０","１．２×５ｍ","本"]
["シングル谷用　ＳＮ－２３","１．２×５ｍ","本"]
["シングル谷用　ＳＮ－２４","１．２×５ｍ","本"]
["シングル谷用　ＳＮ－３０","１．２×５ｍ","本"]
["シングル谷用　ＳＮ－３１","１．２×５ｍ","本"]
["シングル谷用　ＳＮ－３３","１．２×５ｍ","本"]
["シングル谷用　ＳＮ－３４","１．２×５ｍ","本"]
["シングル谷用　ＳＮ－３６","１．２×５ｍ","本"]
["シングル特殊釘","２５㎜","個"]
["スプリングメッシュ　φ１２","φ１２×１０ｍ","本"]
["スプリングメッシュ　φ１８","φ１８×１０ｍ","本"]
["セピロンコートＥ","主剤：６ｋｇ　硬化剤：１２ｋｇ","セット"]
["セピロンコートＥＶ","主剤：６ｋｇ　硬化剤：１２ｋｇ","セット"]
["セピロンコートＱ","主剤：６ｋｇ　硬化剤：１２ｋｇ","セット"]
["セピロンコートＱＶ","主剤：６ｋｇ　硬化剤：１２ｋｇ","セット"]
["だれ止め剤","１ｋｇ／缶","缶"]
["テープＪ","０．１×２５ｍ、４巻","ケース"]
["トップコート用シンナー","１４ｋｇ／缶","缶"]
["トップタイト","５０ｃｍ×１ｍ","枚"]
["トップフィラー","０．４２ｋｇ／袋","袋"]
["ニチロンメッシュ","１×３３ｍ","本"]
["ニチロンメッシュ　　１５ｃｍ","０．１５×３３ｍ","ケース"]
["ニチロンメッシュ　　２０ｃｍ","０．２×３３ｍ","ケース"]
["ニチロンメッシュ　　３３ｃｍ","０．３３×３３ｍ","巻"]
["ニューＭＦシート１５　１５－５１","１．２×１０ｍ","本"]
["ニューＭＦシート１５　１５－５２","１．２×１０ｍ","本"]
["ニューＭＦシート１５　１５－５３","１．２×１０ｍ","本"]
["ニューＭＦシート１５　１５－５３","１．２×１０ｍ","本"]
["ニューＭＦシート１５　１５－５４","１．２×１０ｍ","本"]
["ニューＭＦシート１５　１５－５６","１．２×１０ｍ","本"]
["ニューステンレスベント","","個"]
["ニューステンレスベント　コア","","個"]
["ニューセッターボード","１×１ｍ","枚"]
["ニューメルタン","１×８ｍ","本"]
["ニューメルタン１５","１×１６ｍ","本"]
["ニューメルタン２０Ｐ","１×１５ｍ","本"]
["ニューメルタンキャップ","１×８ｍ","本"]
["ニューメルタンキャップ２０Ｆ","１×８ｍ","本"]
["ニューメルタンキャップ２５Ｆ","１×８ｍ","本"]
["ハイクール　ホワイト","１６ｋｇ／缶","缶"]
["ハイクール　ミドルグレー","１６ｋｇ／缶","缶"]
["ハイクール　ライトグリーン","１６ｋｇ／缶","缶"]
["パラキャント","１ｍ×１０本","ケース"]
["パラクッション","８０㎜×９７０㎜×５０本","ケース"]
["パラテープ　　１０ｃｍ","０．１×３３ｍ","ケース"]
["ピロウエルドＥ","１×１６ｍ","本"]
["ピロウエルドＰ","１×１６ｍ","本"]
["ブチルテープ","３０㎜×１５ｍ","巻"]
["プライマーＡＱ","１６ｋｇ／缶","缶"]
["プライマーＭＴ","２５０ｇ／缶","缶"]
["プレスト１５","１×１６ｍ","本"]
["プレストＦ","１×１６ｍ","本"]
["プレストＳ","１×１６ｍ","本"]
["プレストキャップＫ","１×８ｍ","本"]
["プレストコート","２０ｋｇ／缶","缶"]
["プレストコートＶ","１０ｋｇ／缶","缶"]
["プレノカラー遮熱　シルバーグレー","１６．３ｋｇ／缶","缶"]
["プレノカラー遮熱　ミドルグリーン","１６．３ｋｇ／缶","缶"]
["プレノカラー遮熱　ライトグレー","１６．３ｋｇ／缶","缶"]
["プレノカラー遮熱　特注色","１６．３ｋｇ／缶","缶"]
["プロテクションＮ　６㎜","１×１０ｍ","巻"]
["ベストキャップＡ","１×８ｍ","本"]
["ベストキャップＦ","１×８ｍ","本"]
["ベストルーフ","１×１２ｍ","本"]
["ベストルーフＥ","１×１２ｍ","本"]
["ベストルーフＭＴ","１×１２ｍ","本"]
["ボンドＫ","１６ｋｇ／缶","缶"]
["マルエスアルミドレンキャップ横・小・Ｌ","","個"]
["マルエスアルミドレンキャップ横・小・平","","個"]
["マルエスアルミドレンキャップ横・大・自在","","個"]
["マルエスアルミドレンキャップ横・中・自在","","個"]
["マルエスアルミドレンキャップ縦・小","","個"]
["マルエスアルミドレンキャップ縦・大","","個"]
["マルエスシーラー","２０ｋｇ／缶","缶"]
["マルエスシングル　ＳＮ－２０","３０５㎜×９１５㎜×２０枚","束"]
["マルエスシングル　ＳＮ－２３","３０５㎜×９１５㎜×２０枚","束"]
["マルエスシングル　ＳＮ－２４","３０５㎜×９１５㎜×２０枚","束"]
["マルエスシングル　ＳＮ－３０","３０５㎜×９１５㎜×２０枚","束"]
["マルエスシングル　ＳＮ－３１","３０５㎜×９１５㎜×２０枚","束"]
["マルエスシングル　ＳＮ－３３","３０５㎜×９１５㎜×２０枚","束"]
["マルエスシングル　ＳＮ－３４","３０５㎜×９１５㎜×２０枚","束"]
["マルエスシングル　ＳＮ－３６","３０５㎜×９１５㎜×２０枚","束"]
["マルエスステンケラバ４５　グレー","１８３０ｍｍ×１０本","ケース"]
["マルエスステンケラバ４５　黒","１８３０ｍｍ×１０本","ケース"]
["マルエスステンケラバ４５　茶","１８３０ｍｍ×１０本","ケース"]
["マルエスステンケラバ７５　グレー","１８３０ｍｍ×１０本","ケース"]
["マルエスステンケラバ７５　黒","１８３０ｍｍ×１０本","ケース"]
["マルエスステンケラバ７５　茶","１８３０ｍｍ×１０本","ケース"]
["マルエスステン軒先３０　グレー","１８３０ｍｍ×１０本","ケース"]
["マルエスステン軒先３０　黒","１８３０ｍｍ×１０本","ケース"]
["マルエスステン軒先３０　茶","１８３０ｍｍ×１０本","ケース"]
["マルエスステン軒先６０　グレー","１８３０ｍｍ×１０本","ケース"]
["マルエスステン軒先６０　黒","１８３０ｍｍ×１０本","ケース"]
["マルエスステン軒先６０　茶","１８３０ｍｍ×１０本","ケース"]
["マルエスステン壁　グレー","１８３０ｍｍ×１０本","ケース"]
["マルエスステン壁　黒","１８３０ｍｍ×１０本","ケース"]
["マルエスステン壁　茶","１８３０ｍｍ×１０本","ケース"]
["マルエス鉛ドレンＭ　横　１００","３３０×３３０㎜","個"]
["マルエス鉛ドレンＭ　横　１２５","３３０×３３０㎜","個"]
["マルエス鉛ドレンＭ　横　５０","３３０×３３０㎜","個"]
["マルエス鉛ドレンＭ　横　６０","３３０×３３０㎜","個"]
["マルエス鉛ドレンＭ　横　７５","３３０×３３０㎜","個"]
["マルエス鉛ドレンＭ　横　９０","３３０×３３０㎜","個"]
["マルエス鉛ドレンＭ　縦　１００","３３０×３３０×Ｈ１５０㎜","個"]
["マルエス鉛ドレンＭ　縦　４０","３３０×３３０×Ｈ１５０㎜","個"]
["マルエス鉛ドレンＭ　縦　５０","３３０×３３０×Ｈ１５０㎜","個"]
["マルエス鉛ドレンＭ　縦　６０","３３０×３３０×Ｈ１５０㎜","個"]
["マルエス鉛ドレンＭ　縦　７０","３３０×３３０×Ｈ１５０㎜","個"]
["マルエス鉛ドレンＭ　縦　８０","３３０×３３０×Ｈ１５０㎜","個"]
["マルエス鉛ドレンＭ　縦　９０","３３０×３３０×Ｈ１５０㎜","個"]
["マルエス水切テープ","０．０５×５０ｍ","巻"]
["マルエス脱気太郎　　","２個入","ケース"]
["マルエス銅ドレン　横　１００","３６５×３６５㎜","個"]
["マルエス銅ドレン　横　７５","３６５×３６５㎜","個"]
["マルエス銅ドレン　縦　１００","３６５×３６５×Ｈ１５０㎜","個"]
["マルエス銅ドレン　縦　７５","３６５×３６５×Ｈ１５０㎜","個"]
["マルチシール　カートリッジ","３３０ｍｌ×２４本","ケース"]
["メカディスクＢ","８０φ　穴４．５φ","袋"]
["メカディスクＢ　大穴","８０φ　穴７．０φ","袋"]
["メカディスクＣ","４５φ　穴４．５φ","袋"]
["メカディスクＣ　大穴","４５φ　穴７．０φ","袋"]
["メカトップＦ","１×８ｍ","本"]
["メジテープ","１００㎜×１６ｍ","巻"]
["メルタン２１","１×８ｍ","本"]
["メルタン２１Ａ","１×８ｍ","本"]
["メルタンキャップ２１Ａ","１×８ｍ","本"]
["メルタンキャップ２１Ｆ","１×８ｍ","本"]
["メンテックスＦ","１×１５ｍ","本"]
["メンテックスＳ","１×１５ｍ","本"]
["リファージュコート","主剤：６ｋｇ　硬化剤：１２ｋｇ","セット"]
["リファージュコートＶ","主剤：６ｋｇ　硬化剤：１２ｋｇ","セット"]
["ロッコート　　ミドルグレー","２０ｋｇ／缶","缶"]
["ロッコート　　ライトグリーン","２０ｋｇ／缶","缶"]
["ロンタックセメント","１８ｋｇ／缶","缶"]
["ロンテープＭ　３巻入","７０㎜×１００ｍ×３巻","ケース"]
["ロンバインダー　１８ｋｇ","１８ｋｇ／缶","缶"]
["ロンバインダー　３ｋｇ","３ｋｇ／缶","本"]
["鉛ドレン　横用１００","４００×４００㎜","個"]
["鉛ドレン　横用７０","４００×４００㎜","個"]
["鉛ドレン　縦用１００","４００×４００㎜","ケース"]
["鉛ドレン　縦用７０","４００×４００㎜","ケース"]
["鉛ドレンキャップ横","","個"]
["鉛ドレンキャップ横　大","","個"]
["鉛ドレンキャップ縦","","個"]
["共砂Ｆ　２０","５㎏／袋","袋"]
["共砂Ｆ　２３","５㎏／袋","袋"]
["共砂Ｆ　２４","５㎏／袋","袋"]
["共砂Ｆ　３０","５㎏／袋","袋"]
["共砂Ｆ　３１","５㎏／袋","袋"]
["共砂Ｆ　３３","５㎏／袋","袋"]
["共砂Ｆ　３４","５㎏／袋","袋"]
["共砂Ｆ　３６","５㎏／袋","袋"]
["橋梁プライマーＣ","１５ｋｇ／缶","缶"]
["橋梁プライマーＳ","１５ｋｇ／缶","缶"]
["硬化促進剤Ⅴ","２００ｇ／缶","缶"]
["硬化促進剤Ⅵ","１ｋｇ／缶","缶"]
["硬化促進剤ＰＣ","０．３ｋｇ／本","本"]
["硬化促進剤ＰＣ","０．３ｋｇ／本","本"]
["砕石（Ｆ）砂","５㎏／袋","袋"]
["砕石（ＮＫＢ）砂","５㎏／袋","袋"]
["雪止め金具","Ｌ３６０　Ｗ５０　Ｈ６０","本"]
["乳白ポリフィルム","１．８×５０ｍ","本"]
["平面脱気盤　３１－５１","５個入","ケース"]
["平面脱気盤　３２－５２","５個入","ケース"]
["平面脱気盤　３３－５３","５個入","ケース"]
["平面脱気盤　３４－５４","５個入","ケース"]
["平面脱気盤　３５","５個入","ケース"]
["平面脱気盤　３６－５６","５個入","ケース"]
["平面脱気盤遮熱　３１－５１","５個入","ケース"]
["平面脱気盤遮熱　３４－５４","５個入","ケース"]