{"text_format":"1","workbook":"xlsx","n_sheets":5,"sheets":["営業所コード","依頼書","出荷証明書（ＬＯＴ有り）","出荷証明書（ＬＯＴ無し）","検査ロット結果一時保存"],"not_rendered":{"charts":0,"images":10,"macros":1,"external_links":0,"defined_names":4,"comments":0,"pivot_tables":0},"unopened":[],"bounds":{"document_bytes":16777216,"sheet_cells":100000,"rows_first":2000,"rows_last":500,"rows_between":2000,"halvings":0,"cell_chars":16384,"cell_head_chars":4096},"cells_cut":0,"cells_raw":0,"read":"whole","date_system":"1900"}

{"sheet":"営業所コード","index":0,"n_rows":21,"n_cols":2,"rows_kept":21,"cut":false,"hidden":true,"merged":[]}
["札幌","1321"]
["仙台","H552"]
["北関東","H542"]
["新潟","H553"]
["東京","H541"]
["千葉","H543"]
["埼玉","H544"]
["神奈川","H556"]
["静岡","H545"]
["名古屋","H641"]
["富山","H643"]
["大阪","H441"]
["神戸","H442"]
["京滋","H443"]
["岡山","H444"]
["広島","H445"]
["高松","H446"]
["福岡","H447"]
["構造物-東京","H341"]
["構造物-大阪","H342"]
["海外事業企画室","1010"]

{"sheet":"依頼書","index":1,"n_rows":55,"n_cols":18,"rows_kept":55,"cut":false,"hidden":false,"merged":[[47,8,47,9],[48,1,48,7],[51,1,51,7],[52,1,52,7],[33,1,33,7],[34,1,34,7],[47,1,47,5],[47,6,47,7],[45,1,45,7],[46,1,46,7],[43,1,43,7],[42,1,42,7],[39,1,39,7],[41,1,41,5],[41,6,41,7],[35,1,35,5],[35,6,35,7],[40,8,40,9],[39,10,39,12],[38,8,38,9],[38,10,38,12],[39,8,39,9],[40,10,40,12],[42,10,42,12],[46,8,46,9],[45,8,45,9],[42,8,42,9],[46,10,46,12],[41,10,41,12],[41,8,41,9],[43,8,43,9],[22,0,24,2],[22,3,24,20],[19,3,19,20],[18,3,18,20],[25,13,25,15],[26,10,26,12],[21,11,21,12],[25,6,25,8],[21,7,21,9],[21,3,21,6],[21,0,21,2],[21,13,21,16],[26,13,26,14],[26,15,26,20],[26,1,26,7],[11,0,11,2],[11,3,11,6],[10,2,10,6],[11,7,11,20],[12,12,12,20],[12,0,13,2],[14,12,14,20],[15,12,15,20],[13,12,13,20],[17,3,17,20],[15,0,15,2],[14,0,14,2],[12,3,12,11],[14,3,14,11],[15,3,15,11],[13,3,13,11],[0,0,0,20],[3,0,3,6],[2,15,2,20],[3,15,3,20],[1,15,1,20],[1,0,1,10],[3,10,3,11],[5,10,5,11],[9,11,9,14],[9,16,9,19],[9,2,9,5],[4,7,4,8],[4,4,4,6],[4,10,4,11],[4,15,4,20],[7,0,7,1],[7,2,7,5],[8,2,8,5],[33,8,33,9],[33,10,33,12],[34,8,34,9],[34,10,34,12],[36,8,36,9],[36,10,36,12],[47,15,47,20],[39,15,39,20],[41,15,41,20],[42,15,42,20],[43,15,43,20],[46,15,46,20],[44,15,44,20],[45,15,45,20],[47,10,47,12],[43,10,43,12],[44,8,44,9],[44,10,44,12],[44,1,44,5],[44,6,44,7],[35,10,35,12],[35,8,35,9],[37,8,37,9],[37,10,37,12],[37,1,37,7],[36,1,36,7],[38,1,38,5],[38,6,38,7],[40,1,40,7],[45,10,45,12],[57,0,59,2],[51,13,51,14],[52,13,52,14],[53,13,53,14],[51,8,51,9],[49,1,49,7],[51,10,51,12],[52,8,52,9],[52,10,52,12],[53,8,53,9],[56,1,56,5],[50,13,50,14],[49,13,49,14],[49,8,49,9],[49,10,49,12],[57,3,59,20],[53,15,53,20],[49,15,49,20],[48,15,48,20],[51,15,51,20],[52,15,52,20],[50,15,50,20],[56,6,56,7],[54,13,54,14],[55,13,55,14],[56,13,56,14],[50,6,50,7],[48,8,48,9],[48,10,48,12],[56,15,56,20],[54,15,54,20],[55,15,55,20],[48,13,48,14],[53,1,53,5],[53,6,53,7],[55,1,55,7],[54,1,54,7],[50,10,50,12],[56,10,56,12],[53,10,53,12],[54,8,54,9],[54,10,54,12],[55,8,55,9],[55,10,55,12],[50,8,50,9],[56,8,56,9],[50,1,50,5],[43,13,43,14],[34,15,34,20],[33,15,33,20],[45,13,45,14],[44,13,44,14],[40,13,40,14],[41,13,41,14],[42,13,42,14],[36,13,36,14],[37,13,37,14],[39,13,39,14],[16,3,16,6],[16,0,16,2],[20,3,20,20],[21,17,21,19],[17,0,18,2],[19,0,19,2],[20,0,20,2],[47,13,47,14],[38,13,38,14],[35,15,35,20],[36,15,36,20],[37,15,37,20],[38,15,38,20],[40,15,40,20],[46,13,46,14],[35,13,35,14],[33,13,33,14],[29,15,29,20],[28,10,28,12],[27,15,27,20],[29,10,29,12],[29,6,29,7],[28,1,28,7],[34,13,34,14],[28,15,28,20],[28,8,28,9],[29,8,29,9],[29,1,29,5],[27,10,27,12],[27,8,27,9],[27,1,27,7],[27,13,27,14],[28,13,28,14],[30,13,30,14],[30,10,30,12],[30,8,30,9],[30,1,30,7],[31,13,31,14],[32,13,32,14],[32,15,32,20],[31,10,31,12],[30,15,30,20],[32,10,32,12],[32,6,32,7],[31,1,31,7],[31,15,31,20],[31,8,31,9],[32,8,32,9],[32,1,32,5]]}
["出荷証明書 ・ 組成表 ・ 検査表 作成依頼書"]
[null,null,null,null,null,null,null,null,null,null,null,null,"依頼年月日"]
[null,null,null,null,null,null,null,null,null,null,null,null,"依頼販売店名",null,null,"化研マテリアル㈱名古屋支店"]
["大日本塗料",null,null,null,null,null,null,"株式会社",null,null,null,null,"ご担当者名"]
[null,null,null,null,null,null,null,"営業所",null,"行",null,null,"ＤＮＴ担当者"]
["※ブルーの箇所のご記入をお願いします。（淡黄部はDNT入力）"]
[]
["依頼内容",null,"出 荷 証 明 書",null,null,null,null,null,null,"部"]
[null,null,"組成表 ",null,null,null,null,null,null,"部 （ロット未記入の場合一般PR用の組成表になります）"]
[null,null,"検査表",null,null,null,null,null,null,"部","日付",null,null,null,null,"納期"]
["受付Ｎｏ．                                          　　　　　　　"]
["お届け希望日"]
["宛先（提出先）"]
[]
["取扱販売店名"]
["住所"]
["ＴＥＬ"]
["工　事　名"]
[]
["施工業者"]
["塗装業者"]
["出荷証明書発行日付",null,null,null,null,null,null,"製造日印字",null,null,null,"出荷日",null,null,null,null,null,"規格印字"]
["連絡事項",null,null,"SDSの依頼、ご要望等はこちらにご記入願います。　　　　　　　　　　　　　　　　　　　　　　　　　　　　　　　　　　　　　出荷日は何も指示が無ければ西暦表記になります。　　　　　　　　　　　　　　　　　　　　　　　　　　　　　　　　　　　　　　　　　　　　　　　　　　　　　　　　　和暦希望の場合は、和暦希望と指示お願いします。"]
[]
[]
[]
[null,"商品名／色名／規格・品目コード",null,null,null,null,null,null,null,null,"LOT",null,null,"容量/個数",null,"製造日／合格日／出荷日"]
[1]
[]
[]
[2]
[]
[]
[3]
[]
[]
[4]
[]
[]
[5]
[]
[]
[6]
[]
[]
[7]
[]
[]
[8]
[]
[]
[9]
[]
[]
[10]

{"sheet":"出荷証明書（ＬＯＴ有り）","index":2,"n_rows":55,"n_cols":8,"rows_kept":55,"cut":false,"hidden":false,"merged":[[54,1,55,6],[11,5,11,6],[12,5,12,6],[23,2,23,3],[23,0,23,1],[13,5,13,6],[28,0,28,1],[29,0,29,1],[26,0,26,1],[27,0,27,1],[37,0,37,1],[30,0,30,1],[31,0,31,1],[32,0,32,1],[33,0,33,1],[46,0,46,1],[0,0,0,2],[38,0,38,1],[39,0,39,1],[40,0,40,1],[41,0,41,1],[34,0,34,1],[36,0,36,1],[35,0,35,1],[18,0,19,0],[20,1,20,6],[24,0,24,1],[14,0,14,6],[10,5,10,6],[19,1,19,6],[8,5,8,6],[21,1,21,6],[1,5,1,6],[2,0,2,2],[1,0,1,2],[25,0,25,1],[45,0,45,1],[42,0,42,1],[43,0,43,1],[44,0,44,1],[6,5,6,6],[7,5,7,6],[9,5,9,6],[18,1,18,6],[5,5,5,6],[47,0,47,1],[48,0,48,1],[53,0,53,1],[52,0,52,1],[49,0,49,1],[50,0,50,1],[51,0,51,1]]}
[{"$f":"IF(依頼書!D14=\"\",\"\",依頼書!D13)","v":""},null,null,null,null,"Ｎo．　　　",{"$f":"IF(依頼書!C11=\"\",\"\",依頼書!C11)","v":""}]
[{"$f":"IF(依頼書!D14=\"\",IF(依頼書!M13=\"\",\"\",依頼書!D13),依頼書!M13)","v":""},null,null,null,null,{"$f":"IF(依頼書!D22=\"\",\"\",依頼書!D22)","v":""}]
[{"$f":"IF(依頼書!M13=\"\",IF(依頼書!D13=\"\",IF(依頼書!D14<>\"\",依頼書!D14,\"\"),依頼書!D13),IF(依頼書!D14=\"\",依頼書!M13,依頼書!D14))","v":""},null,null,{"$f":"IF(RIGHT(A3,1)=\"殿\",\"\",\"御中\")","v":"御中"}]
[null,null,null,null,null,"製造販売会社"]
[null,null,null,null,null,"大日本塗料株式会社"]
[]
[]
[]
[null,null,null,null,"　　　　　","取扱販売店"]
[null,null,null,null,null,{"$f":"IF(依頼書!D15=\"\",\"\",依頼書!D15)","v":""}]
[null,null,null,null,null,{"$f":"IF(依頼書!M15=\"\",\"\",依頼書!M15)","v":""}]
[null,null,null,null,null,{"$f":"IF(依頼書!D16=\"\",\"\",依頼書!D16)","v":""}]
[null,null,null,null,null,{"$f":"IF(依頼書!M16=\"\",\"\",依頼書!M16)","v":""}]
[null,null,null,null,null,{"$f":"IF(依頼書!D17=\"\",\"\",\"TEL \"&依頼書!D17)","v":""}]
["出　荷　証　明　書"]
[]
["下記の通り出荷した事を証明致します。"]
[]
["工事名",{"$f":"IF(依頼書!D18=\"\",\"\",依頼書!D18)","v":""}]
[null,{"$f":"IF(依頼書!D19=\"\",\"\",依頼書!D19)","v":""}]
["施工業者",{"$f":"IF(依頼書!D20=\"\",\"\",依頼書!D20)","v":""}]
["塗装業者",{"$f":"IF(依頼書!D21=\"\",\"\",依頼書!D21)","v":""}]
[]
["商品名",null,"ロットＮｏ．",null,"容量","個数",{"$f":"IF(依頼書!$K$22=1,\"製造日/出荷年月日\",\"出荷年月日\")","v":"出荷年月日"}]
[{"$f":"IF(依頼書!B28=\"\",\"\",依頼書!B28)","v":""},null,{"$f":"IF(依頼書!I29=\"\",\"\",IF(依頼書!I28=\"\",\"\",依頼書!I28))","v":""},{"$f":"IF(依頼書!K29=\"\",\"\",IF(依頼書!K28=\"\",\"\",依頼書!K28))","v":""},null,null,{"$f":"IF(依頼書!$K$22=1,IF(依頼書!P28=\"\",\"\",依頼書!P28),\"\")","v":""}]
[{"$f":"IF(依頼書!B29=\"\",\"\",依頼書!B29)","v":""},null,{"$f":"IF(依頼書!I29=\"\",IF(依頼書!I28=\"\",\"\",依頼書!I28),依頼書!I29)","v":""},{"$f":"IF(依頼書!K29=\"\",IF(依頼書!K28=\"\",\"\",依頼書!K28),依頼書!K29)","v":""},{"$f":"IF(依頼書!N28=\"\",\"\",依頼書!N28)","v":""},{"$f":"IF(依頼書!N29=\"\",\"\",依頼書!N29)","v":""},{"$f":"IF(依頼書!P30=\"\",\"\",依頼書!P30)","v":""}]
[{"$f":"IF(依頼書!$U$22=1,IF(依頼書!B30=\"\",\"\",依頼書!B30),\"\")","v":""},null,{"$f":"IF(依頼書!I30=\"\",\"\",依頼書!I30)","v":""},{"$f":"IF(依頼書!K30=\"\",\"\",依頼書!K30)","v":""}]
[{"$f":"IF(依頼書!B31=\"\",\"\",依頼書!B31)","v":""},null,{"$f":"IF(依頼書!I32=\"\",\"\",IF(依頼書!I31=\"\",\"\",依頼書!I31))","v":""},{"$f":"IF(依頼書!K32=\"\",\"\",IF(依頼書!K31=\"\",\"\",依頼書!K31))","v":""},null,null,{"$f":"IF(依頼書!$K$22=1,IF(依頼書!P31=\"\",\"\",依頼書!P31),\"\")","v":""}]
[{"$f":"IF(A28=\"\",IF(A25=\"\",\"\",\"以　下　余　白\"),IF(依頼書!B32=\"\",\"\",依頼書!B32))","v":""},null,{"$f":"IF(依頼書!I32=\"\",IF(依頼書!I31=\"\",\"\",依頼書!I31),依頼書!I32)","v":""},{"$f":"IF(依頼書!K32=\"\",IF(依頼書!K31=\"\",\"\",依頼書!K31),依頼書!K32)","v":""},{"$f":"IF(依頼書!N31=\"\",\"\",依頼書!N31)","v":""},{"$f":"IF(依頼書!N32=\"\",\"\",依頼書!N32)","v":""},{"$f":"IF(依頼書!P33=\"\",\"\",依頼書!P33)","v":""}]
[{"$f":"IF(依頼書!$U$22=1,IF(依頼書!B33=\"\",\"\",依頼書!B33),\"\")","v":""},null,{"$f":"IF(依頼書!I33=\"\",\"\",依頼書!I33)","v":""},{"$f":"IF(依頼書!K33=\"\",\"\",依頼書!K33)","v":""}]
[{"$f":"IF(依頼書!B34=\"\",\"\",依頼書!B34)","v":""},null,{"$f":"IF(依頼書!I35=\"\",\"\",IF(依頼書!I34=\"\",\"\",依頼書!I34))","v":""},{"$f":"IF(依頼書!K35=\"\",\"\",IF(依頼書!K34=\"\",\"\",依頼書!K34))","v":""},null,null,{"$f":"IF(依頼書!$K$22=1,IF(依頼書!P34=\"\",\"\",依頼書!P34),\"\")","v":""}]
[{"$f":"IF(A31=\"\",IF(A28=\"\",\"\",\"以　下　余　白\"),IF(依頼書!B35=\"\",\"\",依頼書!B35))","v":""},null,{"$f":"IF(依頼書!I35=\"\",IF(依頼書!I34=\"\",\"\",依頼書!I34),依頼書!I35)","v":""},{"$f":"IF(依頼書!K35=\"\",IF(依頼書!K34=\"\",\"\",依頼書!K34),依頼書!K35)","v":""},{"$f":"IF(依頼書!N34=\"\",\"\",依頼書!N34)","v":""},{"$f":"IF(依頼書!N35=\"\",\"\",依頼書!N35)","v":""},{"$f":"IF(依頼書!P36=\"\",\"\",依頼書!P36)","v":""}]
[{"$f":"IF(依頼書!$U$22=1,IF(依頼書!B36=\"\",\"\",依頼書!B36),\"\")","v":""},null,{"$f":"IF(依頼書!I36=\"\",\"\",依頼書!I36)","v":""},{"$f":"IF(依頼書!K36=\"\",\"\",依頼書!K36)","v":""}]
[{"$f":"IF(依頼書!B37=\"\",\"\",依頼書!B37)","v":""},null,{"$f":"IF(依頼書!I38=\"\",\"\",IF(依頼書!I37=\"\",\"\",依頼書!I37))","v":""},{"$f":"IF(依頼書!K38=\"\",\"\",IF(依頼書!K37=\"\",\"\",依頼書!K37))","v":""},null,null,{"$f":"IF(依頼書!$K$22=1,IF(依頼書!P37=\"\",\"\",依頼書!P37),\"\")","v":""}]
[{"$f":"IF(A34=\"\",IF(A31=\"\",\"\",\"以　下　余　白\"),IF(依頼書!B38=\"\",\"\",依頼書!B38))","v":""},null,{"$f":"IF(依頼書!I38=\"\",IF(依頼書!I37=\"\",\"\",依頼書!I37),依頼書!I38)","v":""},{"$f":"IF(依頼書!K38=\"\",IF(依頼書!K37=\"\",\"\",依頼書!K37),依頼書!K38)","v":""},{"$f":"IF(依頼書!N37=\"\",\"\",依頼書!N37)","v":""},{"$f":"IF(依頼書!N38=\"\",\"\",依頼書!N38)","v":""},{"$f":"IF(依頼書!P39=\"\",\"\",依頼書!P39)","v":""}]
[{"$f":"IF(依頼書!$U$22=1,IF(依頼書!B39=\"\",\"\",依頼書!B39),\"\")","v":""},null,{"$f":"IF(依頼書!I39=\"\",\"\",依頼書!I39)","v":""},{"$f":"IF(依頼書!K39=\"\",\"\",依頼書!K39)","v":""}]
[{"$f":"IF(依頼書!B40=\"\",\"\",依頼書!B40)","v":""},null,{"$f":"IF(依頼書!I41=\"\",\"\",IF(依頼書!I40=\"\",\"\",依頼書!I40))","v":""},{"$f":"IF(依頼書!K41=\"\",\"\",IF(依頼書!K40=\"\",\"\",依頼書!K40))","v":""},null,null,{"$f":"IF(依頼書!$K$22=1,IF(依頼書!P40=\"\",\"\",依頼書!P40),\"\")","v":""}]
[{"$f":"IF(A37=\"\",IF(A34=\"\",\"\",\"以　下　余　白\"),IF(依頼書!B41=\"\",\"\",依頼書!B41))","v":""},null,{"$f":"IF(依頼書!I41=\"\",IF(依頼書!I40=\"\",\"\",依頼書!I40),依頼書!I41)","v":""},{"$f":"IF(依頼書!K41=\"\",IF(依頼書!K40=\"\",\"\",依頼書!K40),依頼書!K41)","v":""},{"$f":"IF(依頼書!N40=\"\",\"\",依頼書!N40)","v":""},{"$f":"IF(依頼書!N41=\"\",\"\",依頼書!N41)","v":""},{"$f":"IF(依頼書!P42=\"\",\"\",依頼書!P42)","v":""}]
[{"$f":"IF(依頼書!$U$22=1,IF(依頼書!B42=\"\",\"\",依頼書!B42),\"\")","v":""},null,{"$f":"IF(依頼書!I42=\"\",\"\",依頼書!I42)","v":""},{"$f":"IF(依頼書!K42=\"\",\"\",依頼書!K42)","v":""}]
[{"$f":"IF(依頼書!B43=\"\",\"\",依頼書!B43)","v":""},null,{"$f":"IF(依頼書!I44=\"\",\"\",IF(依頼書!I43=\"\",\"\",依頼書!I43))","v":""},{"$f":"IF(依頼書!K44=\"\",\"\",IF(依頼書!K43=\"\",\"\",依頼書!K43))","v":""},null,null,{"$f":"IF(依頼書!$K$22=1,IF(依頼書!P43=\"\",\"\",依頼書!P43),\"\")","v":""}]
[{"$f":"IF(A40=\"\",IF(A37=\"\",\"\",\"以　下　余　白\"),IF(依頼書!B44=\"\",\"\",依頼書!B44))","v":""},null,{"$f":"IF(依頼書!I44=\"\",IF(依頼書!I43=\"\",\"\",依頼書!I43),依頼書!I44)","v":""},{"$f":"IF(依頼書!K44=\"\",IF(依頼書!K43=\"\",\"\",依頼書!K43),依頼書!K44)","v":""},{"$f":"IF(依頼書!N43=\"\",\"\",依頼書!N43)","v":""},{"$f":"IF(依頼書!N44=\"\",\"\",依頼書!N44)","v":""},{"$f":"IF(依頼書!P45=\"\",\"\",依頼書!P45)","v":""}]
[{"$f":"IF(依頼書!$U$22=1,IF(依頼書!B45=\"\",\"\",依頼書!B45),\"\")","v":""},null,{"$f":"IF(依頼書!I45=\"\",\"\",依頼書!I45)","v":""},{"$f":"IF(依頼書!K45=\"\",\"\",依頼書!K45)","v":""}]
[{"$f":"IF(依頼書!B46=\"\",\"\",依頼書!B46)","v":""},null,{"$f":"IF(依頼書!I47=\"\",\"\",IF(依頼書!I46=\"\",\"\",依頼書!I46))","v":""},{"$f":"IF(依頼書!K47=\"\",\"\",IF(依頼書!K46=\"\",\"\",依頼書!K46))","v":""},null,null,{"$f":"IF(依頼書!$K$22=1,IF(依頼書!P46=\"\",\"\",依頼書!P46),\"\")","v":""}]
[{"$f":"IF(A43=\"\",IF(A40=\"\",\"\",\"以　下　余　白\"),IF(依頼書!B47=\"\",\"\",依頼書!B47))","v":""},null,{"$f":"IF(依頼書!I47=\"\",IF(依頼書!I46=\"\",\"\",依頼書!I46),依頼書!I47)","v":""},{"$f":"IF(依頼書!K47=\"\",IF(依頼書!K46=\"\",\"\",依頼書!K46),依頼書!K47)","v":""},{"$f":"IF(依頼書!N46=\"\",\"\",依頼書!N46)","v":""},{"$f":"IF(依頼書!N47=\"\",\"\",依頼書!N47)","v":""},{"$f":"IF(依頼書!P48=\"\",\"\",依頼書!P48)","v":""}]
[{"$f":"IF(依頼書!$U$22=1,IF(依頼書!B48=\"\",\"\",依頼書!B48),\"\")","v":""},null,{"$f":"IF(依頼書!I48=\"\",\"\",依頼書!I48)","v":""},{"$f":"IF(依頼書!K48=\"\",\"\",依頼書!K48)","v":""}]
[{"$f":"IF(依頼書!B49=\"\",\"\",依頼書!B49)","v":""},null,{"$f":"IF(依頼書!I50=\"\",\"\",IF(依頼書!I49=\"\",\"\",依頼書!I49))","v":""},{"$f":"IF(依頼書!K50=\"\",\"\",IF(依頼書!K49=\"\",\"\",依頼書!K49))","v":""},null,null,{"$f":"IF(依頼書!$K$22=1,IF(依頼書!P49=\"\",\"\",依頼書!P49),\"\")","v":""}]
[{"$f":"IF(A46=\"\",IF(A43=\"\",\"\",\"以　下　余　白\"),IF(依頼書!B50=\"\",\"\",依頼書!B50))","v":""},null,{"$f":"IF(依頼書!I50=\"\",IF(依頼書!I49=\"\",\"\",依頼書!I49),依頼書!I50)","v":""},{"$f":"IF(依頼書!K50=\"\",IF(依頼書!K49=\"\",\"\",依頼書!K49),依頼書!K50)","v":""},{"$f":"IF(依頼書!N49=\"\",\"\",依頼書!N49)","v":""},{"$f":"IF(依頼書!N50=\"\",\"\",依頼書!N50)","v":""},{"$f":"IF(依頼書!P51=\"\",\"\",依頼書!P51)","v":""}]
[{"$f":"IF(依頼書!$U$22=1,IF(依頼書!B51=\"\",\"\",依頼書!B51),\"\")","v":""},null,{"$f":"IF(依頼書!I51=\"\",\"\",依頼書!I51)","v":""},{"$f":"IF(依頼書!K51=\"\",\"\",依頼書!K51)","v":""}]
[{"$f":"IF(依頼書!B52=\"\",\"\",依頼書!B52)","v":""},null,{"$f":"IF(依頼書!I53=\"\",\"\",IF(依頼書!I52=\"\",\"\",依頼書!I52))","v":""},{"$f":"IF(依頼書!K53=\"\",\"\",IF(依頼書!K52=\"\",\"\",依頼書!K52))","v":""},null,null,{"$f":"IF(依頼書!$K$22=1,IF(依頼書!P52=\"\",\"\",依頼書!P52),\"\")","v":""}]
[{"$f":"IF(A49=\"\",IF(A46=\"\",\"\",\"以　下　余　白\"),IF(依頼書!B53=\"\",\"\",依頼書!B53))","v":""},null,{"$f":"IF(依頼書!I53=\"\",IF(依頼書!I52=\"\",\"\",依頼書!I52),依頼書!I53)","v":""},{"$f":"IF(依頼書!K53=\"\",IF(依頼書!K52=\"\",\"\",依頼書!K52),依頼書!K53)","v":""},{"$f":"IF(依頼書!N52=\"\",\"\",依頼書!N52)","v":""},{"$f":"IF(依頼書!N53=\"\",\"\",依頼書!N53)","v":""},{"$f":"IF(依頼書!P54=\"\",\"\",依頼書!P54)","v":""}]
[{"$f":"IF(依頼書!$U$22=1,IF(依頼書!B54=\"\",\"\",依頼書!B54),\"\")","v":""},null,{"$f":"IF(依頼書!I54=\"\",\"\",依頼書!I54)","v":""},{"$f":"IF(依頼書!K54=\"\",\"\",依頼書!K54)","v":""}]
[{"$f":"IF(依頼書!B55=\"\",\"\",依頼書!B55)","v":""},null,{"$f":"IF(依頼書!I56=\"\",\"\",IF(依頼書!I55=\"\",\"\",依頼書!I55))","v":""},{"$f":"IF(依頼書!K56=\"\",\"\",IF(依頼書!K55=\"\",\"\",依頼書!K55))","v":""},null,null,{"$f":"IF(依頼書!$K$22=1,IF(依頼書!P55=\"\",\"\",依頼書!P55),\"\")","v":""}]
[{"$f":"IF(A52=\"\",IF(A49=\"\",\"\",\"以　下　余　白\"),IF(依頼書!B56=\"\",\"\",依頼書!B56))","v":""},null,{"$f":"IF(依頼書!I56=\"\",IF(依頼書!I55=\"\",\"\",依頼書!I55),依頼書!I56)","v":""},{"$f":"IF(依頼書!K56=\"\",IF(依頼書!K55=\"\",\"\",依頼書!K55),依頼書!K56)","v":""},{"$f":"IF(依頼書!N55=\"\",\"\",依頼書!N55)","v":""},{"$f":"IF(依頼書!N56=\"\",\"\",依頼書!N56)","v":""},{"$f":"IF(依頼書!P57=\"\",\"\",依頼書!P57)","v":""}]
[{"$f":"IF(依頼書!$U$22=1,IF(依頼書!B57=\"\",\"\",依頼書!B57),\"\")","v":""},null,{"$f":"IF(依頼書!I57=\"\",\"\",依頼書!I57)","v":""},{"$f":"IF(依頼書!K57=\"\",\"\",依頼書!K57)","v":""}]
["備考",null,null,null,null,null,null,"←入力できます。"]

{"sheet":"出荷証明書（ＬＯＴ無し）","index":3,"n_rows":55,"n_cols":8,"rows_kept":55,"cut":false,"hidden":false,"merged":[[19,1,19,6],[36,0,36,3],[24,0,24,3],[5,5,5,6],[9,5,9,6],[0,0,0,2],[53,0,53,3],[49,0,49,3],[50,0,50,3],[51,0,51,3],[48,0,48,3],[18,0,19,0],[20,1,20,6],[1,5,1,6],[6,5,6,6],[11,5,11,6],[12,5,12,6],[13,5,13,6],[37,0,37,3],[38,0,38,3],[35,0,35,3],[2,0,2,2],[1,0,1,2],[29,0,29,3],[30,0,30,3],[31,0,31,3],[14,0,14,6],[7,5,7,6],[8,5,8,6],[27,0,27,3],[21,1,21,6],[10,5,10,6],[28,0,28,3],[25,0,25,3],[23,0,23,3],[26,0,26,3],[18,1,18,6],[54,1,55,6],[52,0,52,3],[42,0,42,3],[43,0,43,3],[44,0,44,3],[45,0,45,3],[46,0,46,3],[47,0,47,3],[41,0,41,3],[32,0,32,3],[33,0,33,3],[40,0,40,3],[39,0,39,3],[34,0,34,3]]}
[{"$f":"IF(依頼書!D14=\"\",\"\",依頼書!D13)","v":""},null,null,null,null,"Ｎo．　　　",{"$f":"IF(依頼書!C11=\"\",\"\",依頼書!C11)","v":""}]
[{"$f":"IF(依頼書!D14=\"\",IF(依頼書!M13=\"\",\"\",依頼書!D13),依頼書!M13)","v":""},null,null,null,null,{"$f":"IF(依頼書!D22=\"\",\"\",依頼書!D22)","v":""}]
[{"$f":"IF(依頼書!M13=\"\",IF(依頼書!D13=\"\",IF(依頼書!D14<>\"\",依頼書!D14,\"\"),依頼書!D13),IF(依頼書!D14=\"\",依頼書!M13,依頼書!D14))","v":""},null,null,{"$f":"IF(RIGHT(A3,1)=\"殿\",\"\",\"御中\")","v":"御中"}]
[null,null,null,null,null,"製造販売会社"]
[null,null,null,null,null,"大日本塗料株式会社"]
[]
[]
[]
[null,null,null,null,"　　　　　","取扱販売店"]
[null,null,null,null,null,{"$f":"IF(依頼書!D15=\"\",\"\",依頼書!D15)","v":""}]
[null,null,null,null,null,{"$f":"IF(依頼書!M15=\"\",\"\",依頼書!M15)","v":""}]
[null,null,null,null,null,{"$f":"IF(依頼書!D16=\"\",\"\",依頼書!D16)","v":""}]
[null,null,null,null,null,{"$f":"IF(依頼書!M16=\"\",\"\",依頼書!M16)","v":""}]
[null,null,null,null,null,{"$f":"IF(依頼書!D17=\"\",\"\",\"TEL \"&依頼書!D17)","v":""}]
["出　荷　証　明　書"]
[]
["下記の通り出荷した事を証明致します。"]
[]
["工事名",{"$f":"IF(依頼書!D18=\"\",\"\",依頼書!D18)","v":""}]
[null,{"$f":"IF(依頼書!D19=\"\",\"\",依頼書!D19)","v":""}]
["施工業者",{"$f":"IF(依頼書!D20=\"\",\"\",依頼書!D20)","v":""}]
["塗装業者",{"$f":"IF(依頼書!D21=\"\",\"\",依頼書!D21)","v":""}]
[]
["商品名",null,null,null,"容量","個数",{"$f":"IF(依頼書!$K$22=1,\"製造日/出荷年月日\",\"出荷年月日\")","v":"出荷年月日"}]
[{"$f":"IF(依頼書!B28=\"\",\"\",依頼書!B28)","v":""},null,null,null,null,null,{"$f":"IF(依頼書!$K$22=1,IF(依頼書!P28=\"\",\"\",依頼書!P28),\"\")","v":""}]
[{"$f":"IF(依頼書!B29=\"\",\"\",依頼書!B29)","v":""},null,null,null,{"$f":"IF(依頼書!N28=\"\",\"\",依頼書!N28)","v":""},{"$f":"IF(依頼書!N29=\"\",\"\",依頼書!N29)","v":""},{"$f":"IF(依頼書!P30=\"\",\"\",依頼書!P30)","v":""}]
[{"$f":"IF(依頼書!$U$22=1,IF(依頼書!B30=\"\",\"\",依頼書!B30),\"\")","v":""}]
[{"$f":"IF(依頼書!B31=\"\",\"\",依頼書!B31)","v":""},null,null,null,null,null,{"$f":"IF(依頼書!$K$22=1,IF(依頼書!P31=\"\",\"\",依頼書!P31),\"\")","v":""}]
[{"$f":"IF(A28=\"\",IF(A25=\"\",\"\",\"以　下　余　白\"),IF(依頼書!B32=\"\",\"\",依頼書!B32))","v":""},null,null,null,{"$f":"IF(依頼書!N31=\"\",\"\",依頼書!N31)","v":""},{"$f":"IF(依頼書!N32=\"\",\"\",依頼書!N32)","v":""},{"$f":"IF(依頼書!P33=\"\",\"\",依頼書!P33)","v":""}]
[{"$f":"IF(依頼書!$U$22=1,IF(依頼書!B33=\"\",\"\",依頼書!B33),\"\")","v":""}]
[{"$f":"IF(依頼書!B34=\"\",\"\",依頼書!B34)","v":""},null,null,null,null,null,{"$f":"IF(依頼書!$K$22=1,IF(依頼書!P34=\"\",\"\",依頼書!P34),\"\")","v":""}]
[{"$f":"IF(A31=\"\",IF(A28=\"\",\"\",\"以　下　余　白\"),IF(依頼書!B35=\"\",\"\",依頼書!B35))","v":""},null,null,null,{"$f":"IF(依頼書!N34=\"\",\"\",依頼書!N34)","v":""},{"$f":"IF(依頼書!N35=\"\",\"\",依頼書!N35)","v":""},{"$f":"IF(依頼書!P36=\"\",\"\",依頼書!P36)","v":""}]
[{"$f":"IF(依頼書!$U$22=1,IF(依頼書!B36=\"\",\"\",依頼書!B36),\"\")","v":""}]
[{"$f":"IF(依頼書!B37=\"\",\"\",依頼書!B37)","v":""},null,null,null,null,null,{"$f":"IF(依頼書!$K$22=1,IF(依頼書!P37=\"\",\"\",依頼書!P37),\"\")","v":""}]
[{"$f":"IF(A34=\"\",IF(A31=\"\",\"\",\"以　下　余　白\"),IF(依頼書!B38=\"\",\"\",依頼書!B38))","v":""},null,null,null,{"$f":"IF(依頼書!N37=\"\",\"\",依頼書!N37)","v":""},{"$f":"IF(依頼書!N38=\"\",\"\",依頼書!N38)","v":""},{"$f":"IF(依頼書!P39=\"\",\"\",依頼書!P39)","v":""}]
[{"$f":"IF(依頼書!$U$22=1,IF(依頼書!B39=\"\",\"\",依頼書!B39),\"\")","v":""}]
[{"$f":"IF(依頼書!B40=\"\",\"\",依頼書!B40)","v":""},null,null,null,null,null,{"$f":"IF(依頼書!$K$22=1,IF(依頼書!P40=\"\",\"\",依頼書!P40),\"\")","v":""}]
[{"$f":"IF(A37=\"\",IF(A34=\"\",\"\",\"以　下　余　白\"),IF(依頼書!B41=\"\",\"\",依頼書!B41))","v":""},null,null,null,{"$f":"IF(依頼書!N40=\"\",\"\",依頼書!N40)","v":""},{"$f":"IF(依頼書!N41=\"\",\"\",依頼書!N41)","v":""},{"$f":"IF(依頼書!P42=\"\",\"\",依頼書!P42)","v":""}]
[{"$f":"IF(依頼書!$U$22=1,IF(依頼書!B42=\"\",\"\",依頼書!B42),\"\")","v":""}]
[{"$f":"IF(依頼書!B43=\"\",\"\",依頼書!B43)","v":""},null,null,null,null,null,{"$f":"IF(依頼書!$K$22=1,IF(依頼書!P43=\"\",\"\",依頼書!P43),\"\")","v":""}]
[{"$f":"IF(A40=\"\",IF(A37=\"\",\"\",\"以　下　余　白\"),IF(依頼書!B44=\"\",\"\",依頼書!B44))","v":""},null,null,null,{"$f":"IF(依頼書!N43=\"\",\"\",依頼書!N43)","v":""},{"$f":"IF(依頼書!N44=\"\",\"\",依頼書!N44)","v":""},{"$f":"IF(依頼書!P45=\"\",\"\",依頼書!P45)","v":""}]
[{"$f":"IF(依頼書!$U$22=1,IF(依頼書!B45=\"\",\"\",依頼書!B45),\"\")","v":""}]
[{"$f":"IF(依頼書!B46=\"\",\"\",依頼書!B46)","v":""},null,null,null,null,null,{"$f":"IF(依頼書!$K$22=1,IF(依頼書!P46=\"\",\"\",依頼書!P46),\"\")","v":""}]
[{"$f":"IF(A43=\"\",IF(A40=\"\",\"\",\"以　下　余　白\"),IF(依頼書!B47=\"\",\"\",依頼書!B47))","v":""},null,null,null,{"$f":"IF(依頼書!N46=\"\",\"\",依頼書!N46)","v":""},{"$f":"IF(依頼書!N47=\"\",\"\",依頼書!N47)","v":""},{"$f":"IF(依頼書!P48=\"\",\"\",依頼書!P48)","v":""}]
[{"$f":"IF(依頼書!$U$22=1,IF(依頼書!B48=\"\",\"\",依頼書!B48),\"\")","v":""}]
[{"$f":"IF(依頼書!B49=\"\",\"\",依頼書!B49)","v":""},null,null,null,null,null,{"$f":"IF(依頼書!$K$22=1,IF(依頼書!P49=\"\",\"\",依頼書!P49),\"\")","v":""}]
[{"$f":"IF(A46=\"\",IF(A43=\"\",\"\",\"以　下　余　白\"),IF(依頼書!B50=\"\",\"\",依頼書!B50))","v":""},null,null,null,{"$f":"IF(依頼書!N49=\"\",\"\",依頼書!N49)","v":""},{"$f":"IF(依頼書!N50=\"\",\"\",依頼書!N50)","v":""},{"$f":"IF(依頼書!P51=\"\",\"\",依頼書!P51)","v":""}]
[{"$f":"IF(依頼書!$U$22=1,IF(依頼書!B51=\"\",\"\",依頼書!B51),\"\")","v":""}]
[{"$f":"IF(依頼書!B52=\"\",\"\",依頼書!B52)","v":""},null,null,null,null,null,{"$f":"IF(依頼書!$K$22=1,IF(依頼書!P52=\"\",\"\",依頼書!P52),\"\")","v":""}]
[{"$f":"IF(A49=\"\",IF(A46=\"\",\"\",\"以　下　余　白\"),IF(依頼書!B53=\"\",\"\",依頼書!B53))","v":""},null,null,null,{"$f":"IF(依頼書!N52=\"\",\"\",依頼書!N52)","v":""},{"$f":"IF(依頼書!N53=\"\",\"\",依頼書!N53)","v":""},{"$f":"IF(依頼書!P54=\"\",\"\",依頼書!P54)","v":""}]
[{"$f":"IF(依頼書!$U$22=1,IF(依頼書!B54=\"\",\"\",依頼書!B54),\"\")","v":""}]
[{"$f":"IF(依頼書!B55=\"\",\"\",依頼書!B55)","v":""},null,null,null,null,null,{"$f":"IF(依頼書!$K$22=1,IF(依頼書!P55=\"\",\"\",依頼書!P55),\"\")","v":""}]
[{"$f":"IF(A52=\"\",IF(A49=\"\",\"\",\"以　下　余　白\"),IF(依頼書!B56=\"\",\"\",依頼書!B56))","v":""},null,null,null,{"$f":"IF(依頼書!N55=\"\",\"\",依頼書!N55)","v":""},{"$f":"IF(依頼書!N56=\"\",\"\",依頼書!N56)","v":""},{"$f":"IF(依頼書!P57=\"\",\"\",依頼書!P57)","v":""}]
[{"$f":"IF(依頼書!$U$22=1,IF(依頼書!B57=\"\",\"\",依頼書!B57),\"\")","v":""}]
["備考",null,null,null,null,null,null,"←入力できます。"]

{"sheet":"検査ロット結果一時保存","index":4,"n_rows":0,"n_cols":0,"rows_kept":0,"cut":false,"hidden":true,"merged":[]}